Workbook
Name \0: #REF!
Name \0: #REF!
Name \m: #REF!
Name \m: #REF!
Name \qe2: #REF!
Name \qe2: #REF!
Name \s: #REF!
Name \s: #REF!
Name \z: #REF!
Name \z: #REF!
Name _: #REF!
Name _: #REF!
Name ___RF1996: #REF!
Name ___RF1996: #REF!
Name ___RF1998: #REF!
Name ___RF1998: #REF!
Name ___RF1999: #REF!
Name ___RF1999: #REF!
Name ___RF2000: #REF!
Name ___RF2001: #REF!
Name ___SP1996: #REF!
Name ___SP1998: #REF!
Name ___SP1999: #REF!
Name ___SP2000: #REF!
Name ___SP2001: #REF!
Name __MND5: #REF!
Name __RF1996: #REF!
Name __RF1998: #REF!
Name __RF1999: #REF!
Name __RF2000: #REF!
Name __RF2001: #REF!
Name __SP1996: #REF!
Name __SP1998: #REF!
Name __SP1999: #REF!
Name __SP2000: #REF!
Name __SP2001: #REF!
Name _Hlk77840526: #REF!
Name _Hlk77840526: #REF!
Name _MND5: #REF!
Name _MND5: #REF!
Name _PCF1: #N/A
Name _PCF2: #N/A
Name _PCF3: #N/A
Name _PCF4: #N/A
Name _RCK10: #REF!
Name _RCK15: #REF!
Name _RCK20: #REF!
Name _RCK25: #REF!
Name _RCK30: #REF!
Name _RCK35: #REF!
Name _RF1996: #REF!
Name _RF1998: #REF!
Name _RF1999: #REF!
Name _RF2000: #REF!
Name _RF2001: #REF!
Name _SP1996: #REF!
Name _SP1998: #REF!
Name _SP1999: #REF!
Name _SP2000: #REF!
Name _SP2001: #REF!

Sheet IN
B2: INSERIRE I DATI / COMPILARE SOLO IL FOGLIO "IN" (INPUT) / PAGINA DI INPUT DA NON STAMPARE
I3: RICAVI
B4: ID Investimento | C4: Comune di Lodi (LO) | H4: Composizione canone futuro € + IVA | I4: € + IVA anno 1
B5: Tipo richiesta autorizzat.: | C5: Autorizz. Inv. a Budget | H5: energia elettrica | I5: =C16*C18 -> 183534.64
H6: gestione + manutenzione + oneri sicurezza gestione e manutenzione IP | I6: =C22*C15 -> 187023
B7: Data compilazione | C7: 46079 | H7: gestione + manutenzione + oneri sicurezza gestione e manutenzione IS | I7: =D15*60 -> 19860
H8: Quota annua lavori/servizi extra a scelta del Comune | I8: 40000
H9: servizio luminarie | I9: 60000
B10: Centro di responsabilità | C10: Alessandro Battistini | H10: rata della somma: lavori + oneri sicurezza lavori + spese tecniche e di gara | I10: =-PMT(C42,C47,I44) -> 363630.46
B11: Richiedente | C11: Alessandro Battistini | H11: totale | I11: =SUM(I5:I10) -> 854048.1
B13: INFO Composizione CANONE € + IVA | C13: PL | D13: LANTERNE SEM | I13: opz1 (con quota annua lavori/servizi extra a scelta del Comune | J13: opz1 (senza quota annua lavori/servizi extra a scelta del Comune)
B14: numero unità situazione attuale | C14: 5987 | D14: 331 | H14: VAN progetto | I14: ='RF VAL_INV opz1'!C15 -> 33936.803 | J14: ='RF VAL_INV opz2'!C15 -> 11362.223
B15: numero unità situazione futura | C15: 6033 | D15: 331 | H15: TIR progetto | I15: ='RF VAL_INV opz1'!C16 -> 0.050486187 | J15: ='RF VAL_INV opz2'!C16 -> 0.050029921
B16: €/kWh costi | C16: 0.226 | D16: =C16-0.001 -> 0.225 | H16: VAN azionista | I16: ='RF VAL_INV opz1'!C34 -> 91800.797 | J16: ='RF VAL_INV opz2'!C34 -> 73280.879
B17: kWh/anno energia elettrica attuale | C17: 3448385.8 | D17: =C17/4200/$C$14*1000 -> 137.13784 | H17: TIR azionista | I17: ='RF VAL_INV opz1'!C35 -> 0.074180324 | J17: ='RF VAL_INV opz2'!C35 -> 0.073390158
B18: kWh/anno energia elettrica futuro | C18: 812100.16 | D18: =C18/4200/$C$15*1000 -> 32.049922 | H18: ADSCR | I18: ='RF VAL_INV opz1'!C57 -> 2.5264318 | J18: ='RF VAL_INV opz2'!C57 -> 2.516077
H19: LLCR | I19: ='RF VAL_INV opz1'!C58 -> 1.9733324 | J19: ='RF VAL_INV opz2'!C58 -> 1.9651558
H20: Payback Period (anni) Discounted Cash Flow | I20: ='RF VAL_INV opz1'!C40 -> 23 | J20: ='RF VAL_INV opz2'!C40 -> 24
H21: Payback Period (anni) Cash Flow | I21: ='RF VAL_INV opz1'!C41 -> 15 | J21: ='RF VAL_INV opz2'!C41 -> 15
B22: €/pl + iva gestione e manutenzione | C22: 31
K23: giorni | L23: mesi | M23: anni
I24: data inizio | J24: data fine | K24: =J25-I25 -> #VALUE! | L24: =ROUND(K24/(365/12),2) -> #VALUE! | M24: =ROUND(K24/365,2) -> #VALUE!
C25: COSTI | H25: Progetto | I25: 0/01 | J25: 31/01 | K25: =J26-I26 -> 27 | L25: =ROUND(K25/(365/12),2) -> 0.89 | M25: =ROUND(K25/365,2) -> 0.07
B26: Manutenzione - manodopera | C26: ='Riepilogo Servizio'!D16 -> 53015.85 | D26: =C26/($C$15+$D$15) -> 8.3305861 | H26: validazione e approvazione PE | I26: 01/02 | J26: 28/02 | K26: =J27-I27 -> 274 | L26: =ROUND(K26/(365/12),2) -> 9.01 | M26: =ROUND(K26/365,2) -> 0.75
B27: Manutenzione - materiale | C27: ='Riepilogo Servizio'!F16 -> 17372.355 | D27: =C27/($C$15+$D$15) -> 2.7297855 | H27: Realizzazione | I27: 01/03 | J27: 30/11 | K27: =J28-I28 -> 30 | L27: =ROUND(K27/(365/12),2) -> 0.99 | M27: =ROUND(K27/365,2) -> 0.08
B28: Manutenzione - attrezzature | C28: ='Riepilogo Servizio'!G21 -> 7234.92 | D28: =C28/($C$15+$D$15) -> 1.136851 | H28: Collaudo/Rilascio | I28: 01/12 | J28: 31/12 | K28: =SUM(K24:K27) -> #VALUE! | L28: =ROUND(K28/(365/12),2) -> #VALUE! | M28: =ROUND(K28/365,2) -> #VALUE!
B29: Manutenzione - spese tecniche | C29: ='Riepilogo Servizio'!G25 -> 5751.45 | D29: =C29/($C$15+$D$15) -> 0.90374764 | H29: guardare la corrispondenza tra durata lavori iniziali | J29: totale | L29: durata lavori iniziali | M29: =C49 -> 1
B30: call center | C30: ='Riepilogo Servizio'!G26 -> 2496 | D30: =C30/($C$15+$D$15) -> 0.39220616 | H30: e scorcio temporale tra data avvio progetto e data fine collaudo/rilascio
B31: sistemi informativi | C31: ='Riepilogo Servizio'!G27 -> 3118.5 | D31: =C31/($C$15+$D$15) -> 0.490022
B32: reperibilità e pronto intervento | C32: ='Riepilogo Servizio'!G28 -> 12474 | D32: =C32/($C$15+$D$15) -> 1.960088
B33: servizio luminarie | C33: 48000 | D33: =C33/($C$15+$D$15) -> 7.5424261
B34: materiale di consumo | C34: ='Riepilogo Servizio'!G29 -> 3118.5 | D34: =C34/($C$15+$D$15) -> 0.490022 | H34: Ente erogatore contributo | I34: =C4 -> Comune di Lodi (LO)
B35: lavori/servizi a scelta del Comune | C35: 38000 | D35: =C35/($C$15+$D$15) -> 5.9710874 | H35: Importo lavori | I35: ='QUADRO ECONOMICO'!C3 -> 4982526 | J35: =I35/$C$15 -> 825.87867
B36: FTE medi annui personale | C36: 0.04 | H36: Oneri di sicurezza sui lavori | I36: ='QUADRO ECONOMICO'!C4 -> 99650.52 | J36: =I36/$C$15 -> 16.517573
B37: Costo medio | C37: 46830.95 | H37: spese tecniche e di gara per investimento | I37: ='QUADRO ECONOMICO'!C11+'QUADRO ECONOMICO'!C15+'QUADRO ECONOMICO'!C17 -> 1369347 | J37: =I37/$C$15 -> 226.97613
B38: personale | C38: =C37*C36 -> 1873.238 | D38: =C38/($C$15+$D$15) -> 0.29434915 | H38: spese da QE non investimento: somme a disposizione extra-canone a carico del Comune | I38: ='QUADRO ECONOMICO'!C14+'QUADRO ECONOMICO'!C16+'QUADRO ECONOMICO'!C18 -> 199875.78 | J38: =I38/$C$15 -> 33.130413
B39: spese generali | C39: 5000 | D39: =C39/($C$15+$D$15) -> 0.78566939 | H39: Totale QE | I39: =SUM(I35:I38) -> 6651399.3 | J39: =I39/$C$15 -> 1102.5028
B40: Totale | C40: =SUM(C26:C34)+C38+C39 -> 159454.81 | D40: =C40/(C15+D15) -> 25.055753
B42: tasso % rata lavori Comune | C42: 0.0399 | H42: Totale investimento soggetto ad ammortamento | I42: =(I35/1.265)+I36+I37 -> 5407753.2
B43: tasso % rata lavori HL | C43: 0.0279 | H43: Contributo economico iniziale da parte del Comune | I43: =SUM(K57:K60) -> 0
...

Sheet Riepilogo
B2: AUTORIZZAZIONE INVESTIMENTO CON RITORNO ECONOMICO
X5: Unità di Budget: | AD5: =IN!C66 -> Hera Luce | AR5: =#REF! -> #REF!
D6: ID Investimento: | J6: =IN!C4 -> Comune di Lodi (LO) | X6: Area: | AD6: =IN!C67 -> Altri Servizi
X7: Business: | AD7: =IN!C68 -> Pubblica Illuminazione
B8: Tipo richiesta autorizzat.: | J8: =IN!C5 -> Autorizz. Inv. a Budget | X8: Categoria: | AD8: =IN!C69 -> Impianti | AR8: =#REF! -> #REF!
X9: Natura: | AD9: =IN!C70 -> Nuove Opere/Iniziat.
X10: Motivazione: | AD10: =IN!C71 -> Ritorno Economico
B11: Centro di Responsabilità : | J11: =IN!C10 -> Alessandro Battistini
B12: Richiedente: | J12: =IN!C11 -> Alessandro Battistini | X12: "Trasversale" a | AD12: Riduzione impatto ambientale: | AN12: =IN!C73 -> Si
B13: Data compilazione: | J13: =IN!C7 -> 46079 | X13: più UdB: | AA13: =IN!C72 -> No | AD13: Efficienza energetica: | AN13: =IN!C74 -> Si
W17: Importo totale investimento (vita intera) lordo contributi: | AI17: =SUM(IN!J57:J60) -> 5407753.2
W20: =CONCATENATE("di cui quota su anno Bdg (",IN!C51,"):") -> di cui quota su anno Bdg (2027): | AI20: =Investimenti!G33 -> 5407753.2
Y21: Importo previsto a Budget (€): | AI21: =SUM(IN!J57:J60) -> 5407753.2
AR23: =#REF! -> #REF!
AG28: Contributi c/capitale: (€): | AI28: 0
AG29: % Contributo: | AI29: 0
AG30: Ente erogatore contributo: | AI30: =IN!I34 -> Comune di Lodi (LO)
AG32: Importo Invest. Netto (€): | AI32: =SUM(IN!J57:J60)-SUM(IN!K57:K58) -> 5407753.2
M38: WACC | O38: =IN!C44 -> 0.0498
M40: VAN progetto (€) | O40: ='RF VAL_INV opz1'!C15 -> 33936.803
M41: TIR progetto | O41: ='RF VAL_INV opz1'!C16 -> 0.050486187
M43: VAN azionista (€) | O43: ='RF VAL_INV opz1'!C34 -> 91800.797
M44: TIR azionista | O44: ='RF VAL_INV opz1'!C35 -> 0.074180324
M46: ADSCR: | O46: ='RF VAL_INV opz1'!C57 -> 2.5264318
M48: LLCR: | O48: ='RF VAL_INV opz1'!C58 -> 1.9733324
M50: Payback Period (anni) Discounted Cash Flow | O50: ='RF VAL_INV opz1'!C40 -> 23
M51: Payback Period (anni) Cash Flow | O51: ='RF VAL_INV opz1'!C41 -> 15

Sheet Dati di base
B3: PARAMETRI | E3: DATI INVESTIMENTO E CLASSIFICAZIONE
B5: Imposte e ammortamenti | E5: ID Investimento: | F5: =IN!C4 -> Comune di Lodi (LO)
B6: IRES: | C6: =IN!C54 -> 0.24
B7: IRAP: | C7: =IN!C55 -> 0.042 | E7: Unità di Budget: | F7: =IN!C66 -> Hera Luce
B8: Aliquota Amm.to: | C8: =1/IN!C47 -> 0.043478261 | E8: Area: | F8: =IN!C67 -> Altri Servizi
B9: Anno Avvio Amm.ti: | C9: =IN!C51 -> 2027 | E9: Business: | F9: =IN!C68 -> Pubblica Illuminazione
B10: Aliquota IVA Ricavi: | C10: =IN!C53 -> 0.22 | E10: Categoria: | F10: =IN!C69 -> Impianti
B11: Aliquota IVA Costi: | C11: =IN!C53 -> 0.22 | E11: Natura: | F11: =IN!C70 -> Nuove Opere/Iniziat.
B12: Circolante | E12: Motivazione: | F12: =IN!C71 -> Ritorno Economico
B13: Giorni Pagamento (nr. giorni): | C13: =IN!C58 -> 60
B14: Giorni Incasso (nr. giorni): | C14: =IN!C59 -> 60 | E14: Centro di Responsabilità : | F14: =IN!C10 -> Alessandro Battistini
B15: Rotazione Magazzino (nr. giorni): | C15: =IN!C60 -> 0 | E15: Richiedente: | F15: =IN!C11 -> Alessandro Battistini
B16: Giorni incasso (%): | C16: =IN!C61 -> 0.16438356 | E16: Investimento "trasversale" a più UdB: | F16: =IN!C72 -> No
B17: Giorni pagamento (%): | C17: =IN!C62 -> 0.16438356
B18: Rotazione Magazzino (%): | C18: =IN!C63 -> 0 | E18: Importo totale investimento (vita intera) lordo contributi c/to Capitale (€): | F18: =SUM(IN!J57:J60) -> 5407753.2
B19: Altri parametri
B20: Unità di misura: | C20: €
B22: Data compilazione: | C22: =IN!C7 -> 46079
B23: Anno di inizio dell'Investimento: | C23: =IN!C51 -> 2027
B24: Anno rif. Budget (presentazione scheda): | C24: =IN!C51 -> 2027 | E24: Contributi c/capitale: (€): | F24: 0
E25: % Contributo: | F25: 0
B26: WACC | C26: =IN!C44 -> 0.0498 | E26: Ente erogatore contributo: | F26: =IN!I34 -> Comune di Lodi (LO)
E27: Importo Invest. Netto (€): | F27: =SUM(IN!J57:J60)-SUM(IN!K57:K58) -> 5407753.2
B28: TIR minimo "Standard": | C28: 0.115
B30: Tipi Investimento per classi di valore a vita intera | E30: Tipo richiesta autorizzat.: | F30: =IN!C5 -> Autorizz. Inv. a Budget
E31: Importo previsto a Budget: | F31: =SUM(IN!J57:J60) -> 5407753.2
E33: Riduzione impatto ambientale: | F33: =IN!C73 -> Si
E34: Efficienza energetica: | F34: =IN!C74 -> Si

Sheet Piano di lavoro
C2: PIANO DI LAVORO
E3: Anno | G3: anno 1 | M3: anno 2 | S3: anno 3 | Y3: anno 4 | AE3: anno 5 | AK3: anno 6
G4: =1 -> 1 | M4: =G4+1 -> 2 | S4: =M4+1 -> 3 | Y4: =S4+1 -> 4 | AE4: =Y4+1 -> 5 | AK4: =AE4+1 -> 6
B5: Fasi | C5: Descrizione | D5: Avvio | E5: Fine | G5: 01 | H5: 03 | I5: 05 | J5: 07 | K5: 09 | L5: 11 | M5: 01 | N5: 03 | O5: 05 | P5: 07 | Q5: 09 | R5: 11 | S5: 01 | T5: 03 | U5: 05 | V5: 07 | W5: 09 | X5: 11 | Y5: 01 | Z5: 03 | AA5: 05 | AB5: 07 | AC5: 09 | AD5: 11 | AE5: 01 | AF5: 03 | AG5: 05 | AH5: 07 | AI5: 09 | AJ5: 11 | AK5: 01 | AL5: 03 | AM5: 05 | AN5: 07 | AO5: 09 | AP5: 11
G6: 46023 | H6: 46082 | I6: 46143 | J6: 46204 | K6: 46266 | L6: 46327 | M6: =DATE($M$3,M5,1) -> #VALUE! | N6: =DATE($M$3,N5,1) -> #VALUE! | O6: =DATE($M$3,O5,1) -> #VALUE! | P6: =DATE($M$3,P5,1) -> #VALUE! | Q6: =DATE($M$3,Q5,1) -> #VALUE! | R6: =DATE($M$3,R5,1) -> #VALUE! | S6: =DATE($S$3,S5,1) -> #VALUE! | T6: =DATE($S$3,T5,1) -> #VALUE! | U6: =DATE($S$3,U5,1) -> #VALUE! | V6: =DATE($S$3,V5,1) -> #VALUE! | W6: =DATE($S$3,W5,1) -> #VALUE! | X6: =DATE($S$3,X5,1) -> #VALUE! | Y6: =DATE($Y$3,Y5,1) -> #VALUE! | Z6: =DATE($Y$3,Z5,1) -> #VALUE! | AA6: =DATE($Y$3,AA5,1) -> #VALUE! | AB6: =DATE($Y$3,AB5,1) -> #VALUE! | AC6: =DATE($Y$3,AC5,1) -> #VALUE! | AD6: =DATE($Y$3,AD5,1) -> #VALUE! | AE6: =DATE($AE$3,AE5,1) -> #VALUE! | AF6: =DATE($AE$3,AF5,1) -> #VALUE! | AG6: =DATE($AE$3,AG5,1) -> #VALUE! | AH6: =DATE($AE$3,AH5,1) -> #VALUE! | AI6: =DATE($AE$3,AI5,1) -> #VALUE! | AJ6: =DATE($AE$3,AJ5,1) -> #VALUE! | AK6: =DATE($AK$3,AK5,1) -> #VALUE! | AL6: =DATE($AK$3,AL5,1) -> #VALUE! | AM6: =DATE($AK$3,AM5,1) -> #VALUE! | AN6: =DATE($AK$3,AN5,1) -> #VALUE! | AO6: =DATE($AK$3,AO5,1) -> #VALUE! | AP6: =DATE($AK$3,AP5,1) -> #VALUE!
B7: 1 | C7: Progetto | D7: gennaio | E7: gennaio | G7: 1 | H7: 0 | I7: 0 | J7: 0 | K7: 0 | L7: 0
B9: 2 | C9: Validazione e approvazione PE | D9: febbraio | E9: febbraio | G9: 1 | H9: 0 | I9: 0 | J9: 0 | K9: 0 | L9: 0
B11: 3 | C11: Realizzazione | D11: marzo | E11: novembre | G11: 0 | H11: 1 | I11: 1 | J11: 1 | K11: 1 | L11: 1
B13: 4 | C13: Collaudo/Rilascio | D13: dicembre | E13: dicembre | G13: 0 | H13: 0 | I13: 0 | J13: 0 | K13: 0 | L13: 1

Sheet Investimenti
B2: RIEPILOGO INVESTIMENTI
B3: Dati in € | D3: 1 | E3: 2 | F3: 3
B4: Anno | G4: anno 1 | H4: anno 2 | I4: anno 3 | J4: anno 4 | K4: anno 5 | L4: anno 6 | M4: anno 7 | N4: anno 8 | O4: anno 9 | P4: anno 10 | Q4: anno 11 | R4: anno 12 | S4: anno 13 | T4: anno 14 | U4: anno 15 | V4: anno 16 | W4: anno 17 | X4: anno 18 | Y4: anno 19 | Z4: anno 20 | AA4: anno 21 | AB4: anno 22 | AC4: anno 23 | AD4: =AC4+1 -> #VALUE! | AE4: =AD4+1 -> #VALUE! | AF4: =AE4+1 -> #VALUE! | AG4: =AF4+1 -> #VALUE! | AH4: =AG4+1 -> #VALUE! | AI4: =AH4+1 -> #VALUE! | AJ4: =AI4+1 -> #VALUE!
G5: 1 | H5: =G5+1 -> 2 | I5: =H5+1 -> 3 | J5: =I5+1 -> 4 | K5: =J5+1 -> 5 | L5: =K5+1 -> 6 | M5: =L5+1 -> 7 | N5: =M5+1 -> 8 | O5: =N5+1 -> 9 | ... AJ5: =AI5+1 -> 30
B6: Investimento Netto
B7: Investimento Lordo Totale | G7: =IF(G5<=IN!$C$47,(G9+G8),0) -> 5407753.2 | H7: =IF(H5<=IN!$C$47,(H9+H8),0) -> 0 | I7: =IF(I5<=IN!$C$47,(I9+I8),0) -> 0 | J7: =IF(J5<=IN!$C$47,(J9+J8),0) -> 0 | K7: =IF(K5<=IN!$C$47,(K9+K8),0) -> 0 | L7: =IF(L5<=IN!$C$47,(L9+L8),0) -> 0 | M7: =IF(M5<=IN!$C$47,(M9+M8),0) -> 0 | N7: =IF(N5<=IN!$C$47,(N9+N8),0) -> 0 | ... AJ7: =IF(AJ5<=IN!$C$47,(AJ9+AJ8),0) -> 0
B8: Investimento di Mantenimento
B9: Investimento Lordo (No mantenimento) | G9: =IF(G5<=IN!$C$47,(G17+G21+G25+G29),0) -> 5407753.2 | H9: =IF(H5<=IN!$C$47,(H17+H21+H25+H29),0) -> 0 | I9: =IF(I5<=IN!$C$47,(I17+I21+I25+I29),0) -> 0 | J9: =IF(J5<=IN!$C$47,(J17+J21+J25+J29),0) -> 0 | K9: =IF(K5<=IN!$C$47,(K17+K21+K25+K29),0) -> 0 | L9: =IF(L5<=IN!$C$47,(L17+L21+L25+L29),0) -> 0 | M9: =IF(M5<=IN!$C$47,(M17+M21+M25+M29),0) -> 0 | N9: =IF(N5<=IN!$C$47,(N17+N21+N25+N29),0) -> 0 | ... AJ9: =IF(AJ5<=IN!$C$47,(AJ17+AJ21+AJ25+AJ29),0) -> 0
B11: Dismissioni (Valore Netto Contabile)
B13: DETTAGLIO COSTI INVESTIMENTO LORDO PER FASI
B14: FASI | C14: Avvio | D14: Fine | E14: VdC | F14: Totale Costi | G14: anno 1 | H14: anno 2 | I14: anno 3 | J14: anno 4 | K14: anno 5 | L14: anno 6 | M14: anno 7 | N14: anno 8 | O14: anno 9 | P14: anno 10 | Q14: anno 11 | R14: anno 12 | S14: anno 13 | T14: anno 14 | U14: anno 15 | V14: anno 16 | W14: anno 17 | X14: anno 18 | Y14: anno 19 | Z14: anno 20 | AA14: anno 21 | AB14: anno 22 | AC14: anno 23 | AD14: =AC14+1 -> #VALUE! | AE14: =AD14+1 -> #VALUE! | AF14: =AE14+1 -> #VALUE! | AG14: =AF14+1 -> #VALUE! | AH14: =AG14+1 -> #VALUE! | AI14: =AH14+1 -> #VALUE! | AJ14: =AI14+1 -> #VALUE!
G15: 1 | H15: =G15+1 -> 2 | I15: =H15+1 -> 3 | J15: =I15+1 -> 4 | K15: =J15+1 -> 5 | L15: =K15+1 -> 6 | M15: =L15+1 -> 7 | N15: =M15+1 -> 8 | O15: =N15+1 -> 9 | ... AJ15: =AI15+1 -> 30
B17: Progetto | C17: gennaio | D17: gennaio | F17: =+SUM(F18:F20) -> 1369347 | G17: =+SUM(G18:G20) -> 1369347 | H17: =+SUM(H18:H20) -> 0 | I17: =+SUM(I18:I20) -> 0 | J17: =+SUM(J18:J20) -> 0 | K17: =+SUM(K18:K20) -> 0 | L17: =+SUM(L18:L20) -> 0 | M17: =+SUM(M18:M20) -> 0 | ... AJ17: =+SUM(AJ18:AJ20) -> 0
E18: Materiali | F18: =+SUM(G18:AN18) -> 0 | H18: 0
E19: Servizi | F19: =+SUM(G19:AN19) -> 1369347 | G19: =IN!I57 -> 1369347 | H19: =IN!I58 -> 0 | I19: =IN!I59 -> 0 | J19: =IN!I60 -> 0 | K19: =IN!I61 -> 0 | L19: =IN!I62 -> 0 | M19: =IN!I63 -> 0 | N19: =IN!I64 -> 0 | O19: =IN!I65 -> 0 | P19: =IN!I66 -> 0 | Q19: =IN!I67 -> 0 | R19: =IN!I68 -> 0 | S19: =IN!I69 -> 0 | T19: =IN!I70 -> 0 | U19: =IN!I71 -> 0 | V19: =IN!I72 -> 0 | W19: =IN!I73 -> 0 | X19: =IN!I74 -> 0 | Y19: =IN!I75 -> 0 | Z19: =IN!I76 -> 0 | AA19: =IN!I77 -> 0 | AB19: =IN!I78 -> 0 | AC19: =IN!I79 -> 0 | AD19: =IN!I80 -> 0 | AE19: =IN!I81 -> 0 | AF19: =IN!I82 -> 0 | AG19: =IN!I83 -> 0 | AH19: =IN!I84 -> 0 | AI19: =IN!I85 -> 0 | AJ19: =IN!I86 -> 0
E20: Personale | F20: =+SUM(G20:AN20) -> 0
B21: Avvio lavori | C21: febbraio | D21: febbraio | F21: =+SUM(F22:F24) -> 0 | G21: =+SUM(G22:G24) -> 0 | H21: =+SUM(H22:H24) -> 0 | I21: =+SUM(I22:I24) -> 0 | J21: =+SUM(J22:J24) -> 0 | K21: =+SUM(K22:K24) -> 0 | L21: =+SUM(L22:L24) -> 0 | M21: =+SUM(M22:M24) -> 0 | ... AJ21: =+SUM(AJ22:AJ24) -> 0
E22: Materiali | F22: =+SUM(G22:AN22) -> 0
E23: Servizi | F23: =+SUM(G23:AN23) -> 0
E24: Personale | F24: =+SUM(G24:AN24) -> 0
B25: Realizzazione | C25: marzo | D25: novembre | F25: =+SUM(F26:F28) -> 4038406.3 | G25: =+SUM(G26:G28) -> 4038406.3 | H25: =+SUM(H26:H28) -> 0 | I25: =+SUM(I26:I28) -> 0 | J25: =+SUM(J26:J28) -> 0 | K25: =+SUM(K26:K28) -> 0 | L25: =+SUM(L26:L28) -> 0 | M25: =+SUM(M26:M28) -> 0 | ... AJ25: =+SUM(AJ26:AJ28) -> 0
E26: Materiali | F26: =+SUM(G26:AN26) -> 0
E27: Servizi | F27: =+SUM(G27:AN27) -> 4038406.3 | G27: =IN!H57 -> 4038406.3 | H27: =IN!H58 -> 0 | I27: =IN!H59 -> 0 | J27: =IN!H60 -> 0 | K27: =IN!H61 -> 0 | L27: =IN!H62 -> 0 | M27: =IN!H63 -> 0 | N27: =IN!H64 -> 0 | O27: =IN!H65 -> 0 | P27: =IN!H66 -> 0 | Q27: =IN!H67 -> 0 | R27: =IN!H68 -> 0 | S27: =IN!H69 -> 0 | T27: =IN!H70 -> 0 | U27: =IN!H71 -> 0 | V27: =IN!H72 -> 0 | W27: =IN!H73 -> 0 | X27: =IN!H74 -> 0 | Y27: =IN!H75 -> 0 | Z27: =IN!H76 -> 0 | AA27: =IN!H77 -> 0 | AB27: =IN!H78 -> 0 | AC27: =IN!H79 -> 0 | AD27: =IN!H80 -> 0 | AE27: =IN!H81 -> 0 | AF27: =IN!H82 -> 0 | AG27: =IN!H83 -> 0 | AH27: =IN!H84 -> 0 | AI27: =IN!H85 -> 0 | AJ27: =IN!H86 -> 0
E28: Personale | F28: =+SUM(G28:AN28) -> 0
B29: Collaudo/Rilascio | C29: dicembre | D29: dicembre | F29: =+SUM(F30:F32) -> 0 | G29: =+SUM(G30:G32) -> 0 | H29: =+SUM(H30:H32) -> 0 | I29: =+SUM(I30:I32) -> 0 | J29: =+SUM(J30:J32) -> 0 | K29: =+SUM(K30:K32) -> 0 | L29: =+SUM(L30:L32) -> 0 | M29: =+SUM(M30:M32) -> 0 | ... AJ29: =+SUM(AJ30:AJ32) -> 0
E30: Materiali | F30: =SUM(G30:AN30) -> 0
E31: Servizi | F31: =SUM(G31:AN31) -> 0
E32: Personale | F32: =SUM(G32:AN32) -> 0
B33: Totale Investimento Lordo | F33: =SUM(F17,F21,F25,F29) -> 5407753.2 | G33: =SUM(G17,G21,G25,G29) -> 5407753.2 | H33: =SUM(H17,H21,H25,H29) -> 0 | I33: =SUM(I17,I21,I25,I29) -> 0 | J33: =SUM(J17,J21,J25,J29) -> 0 | K33: =SUM(K17,K21,K25,K29) -> 0 | L33: =SUM(L17,L21,L25,L29) -> 0 | M33: =SUM(M17,M21,M25,M29) -> 0 | ... AJ33: =SUM(AJ17,AJ21,AJ25,AJ29) -> 0
B39: Nelle righe chiuse il calcolo ammortamenti
D40: SOMMA | G40: 1 | H40: =G40+1 -> 2 | I40: =H40+1 -> 3 | J40: =I40+1 -> 4 | K40: =J40+1 -> 5 | L40: =K40+1 -> 6 | M40: =L40+1 -> 7 | N40: =M40+1 -> 8 | O40: =N40+1 -> 9 | ... AJ40: =AI40+1 -> 30
D41: =SUM(G41:AJ41) -> 5407753.2 | G41: =SUM(G42:G71) -> 235119.71 | H41: =SUM(H42:H71) -> 235119.71 | I41: =SUM(I42:I71) -> 235119.71 | J41: =SUM(J42:J71) -> 235119.71 | K41: =SUM(K42:K71) -> 235119.71 | L41: =SUM(L42:L71) -> 235119.71 | M41: =SUM(M42:M71) -> 235119.71 | N41: =SUM(N42:N71) -> 235119.71 | ... AJ41: =SUM(AJ42:AJ71) -> 0
D42: =SUM(G42:AJ42) -> 5407753.2 | F42: amm.ti investimenti anno 1 | G42: =IF(G40<=IN!$C$47,($G$33/IN!$C$47),0) -> 235119.71 | H42: =IF(H40<=IN!$C$47,($G$33/IN!$C$47),0) -> 235119.71 | I42: =IF(I40<=IN!$C$47,($G$33/IN!$C$47),0) -> 235119.71 | J42: =IF(J40<=IN!$C$47,($G$33/IN!$C$47),0) -> 235119.71 | K42: =IF(K40<=IN!$C$47,($G$33/IN!$C$47),0) -> 235119.71 | L42: =IF(L40<=IN!$C$47,($G$33/IN!$C$47),0) -> 235119.71 | M42: =IF(M40<=IN!$C$47,($G$33/IN!$C$47),0) -> 235119.71 | N42: =IF(N40<=IN!$C$47,($G$33/IN!$C$47),0) -> 235119.71 | ... AJ42: =IF(AJ40<=IN!$C$47,($G$33/IN!$C$47),0) -> 0
D43: =SUM(G43:AJ43) -> 0 | F43: amm.ti investimenti anno 2 | H43: =IF(H40<=IN!$C$47,($H$33/(IN!$C$47-1)),0) -> 0 | I43: =IF(I40<=IN!$C$47,($H$33/(IN!$C$47-1)),0) -> 0 | J43: =IF(J40<=IN!$C$47,($H$33/(IN!$C$47-1)),0) -> 0 | K43: =IF(K40<=IN!$C$47,($H$33/(IN!$C$47-1)),0) -> 0 | L43: =IF(L40<=IN!$C$47,($H$33/(IN!$C$47-1)),0) -> 0 | M43: =IF(M40<=IN!$C$47,($H$33/(IN!$C$47-1)),0) -> 0 | N43: =IF(N40<=IN!$C$47,($H$33/(IN!$C$47-1)),0) -> 0 | O43: =IF(O40<=IN!$C$47,($H$33/(IN!$C$47-1)),0) -> 0 | ... AJ43: =IF(AJ40<=IN!$C$47,($H$33/(IN!$C$47-1)),0) -> 0
D44: =SUM(G44:AJ44) -> 0 | F44: amm.ti investimenti anno 3 | I44: =IF(I40<=IN!$C$47,($I$33/(IN!$C$47-2)),0) -> 0 | J44: =IF(J40<=IN!$C$47,($I$33/(IN!$C$47-2)),0) -> 0 | K44: =IF(K40<=IN!$C$47,($I$33/(IN!$C$47-2)),0) -> 0 | L44: =IF(L40<=IN!$C$47,($I$33/(IN!$C$47-2)),0) -> 0 | M44: =IF(M40<=IN!$C$47,($I$33/(IN!$C$47-2)),0) -> 0 | N44: =IF(N40<=IN!$C$47,($I$33/(IN!$C$47-2)),0) -> 0 | O44: =IF(O40<=IN!$C$47,($I$33/(IN!$C$47-2)),0) -> 0 | P44: =IF(P40<=IN!$C$47,($I$33/(IN!$C$47-2)),0) -> 0 | ... AJ44: =IF(AJ40<=IN!$C$47,($I$33/(IN!$C$47-2)),0) -> 0
D45: =SUM(G45:AJ45) -> 0 | F45: amm.ti investimenti anno 4 | J45: =IF(J40<=IN!$C$47,$J$33/(IN!$C$47-3),0) -> 0 | K45: =IF(K40<=IN!$C$47,$J$33/(IN!$C$47-3),0) -> 0 | L45: =IF(L40<=IN!$C$47,$J$33/(IN!$C$47-3),0) -> 0 | M45: =IF(M40<=IN!$C$47,$J$33/(IN!$C$47-3),0) -> 0 | N45: =IF(N40<=IN!$C$47,$J$33/(IN!$C$47-3),0) -> 0 | O45: =IF(O40<=IN!$C$47,$J$33/(IN!$C$47-3),0) -> 0 | P45: =IF(P40<=IN!$C$47,$J$33/(IN!$C$47-3),0) -> 0 | Q45: =IF(Q40<=IN!$C$47,$J$33/(IN!$C$47-3),0) -> 0 | ... AJ45: =IF(AJ40<=IN!$C$47,$J$33/(IN!$C$47-3),0) -> 0
D46: =SUM(G46:AJ46) -> 0 | F46: amm.ti investimenti anno 5
D47: =SUM(G47:AJ47) -> 0 | F47: amm.ti investimenti anno 6
D48: =SUM(G48:AJ48) -> 0 | F48: amm.ti investimenti anno 7
D49: =SUM(G49:AJ49) -> 0 | F49: amm.ti investimenti anno 8
...

Sheet CE CC opz1
B2: CONTO ECONOMICO
B3: Dati in €
B4: Anno | C4: anno 1 | D4: anno 2 | E4: anno 3 | F4: anno 4 | G4: anno 5 | H4: anno 6 | I4: anno 7 | J4: anno 8 | K4: anno 9 | L4: anno 10 | M4: anno 11 | N4: anno 12 | O4: anno 13 | P4: anno 14 | Q4: anno 15 | R4: anno 16 | S4: anno 17 | T4: anno 18 | U4: anno 19 | V4: anno 20 | W4: anno 21 | X4: anno 22 | Y4: anno 23 | Z4: anno 24
C5: 1 | D5: =C5+1 -> 2 | E5: =D5+1 -> 3 | F5: =E5+1 -> 4 | G5: =F5+1 -> 5 | H5: =G5+1 -> 6 | I5: =H5+1 -> 7 | J5: =I5+1 -> 8 | K5: =J5+1 -> 9 | ... AG5: =AF5+1 -> 31
B6: Canone | C6: =IF(C5<=IN!$C$47,SUM(C7:C12),0) -> 854048.1 | D6: =IF(D5<=IN!$C$47,SUM(D7:D12),0) -> 860787.62 | E6: =IF(E5<=IN!$C$47,SUM(E7:E12),0) -> 867631.25 | F6: =IF(F5<=IN!$C$47,SUM(F7:F12),0) -> 874580.75 | G6: =IF(G5<=IN!$C$47,SUM(G7:G12),0) -> 881637.94 | H6: =IF(H5<=IN!$C$47,SUM(H7:H12),0) -> 888804.65 | I6: =IF(I5<=IN!$C$47,SUM(I7:I12),0) -> 896082.76 | J6: =IF(J5<=IN!$C$47,SUM(J7:J12),0) -> 903474.18 | ... AF6: =IF(AF5<=IN!$C$47,SUM(AF7:AF12),0) -> 0
B7: di cui Quota Energia | C7: =IN!I5 -> 183534.64 | D7: =(IN!C16+(IN!C16*2%))*IN!C18 -> 187205.33 | E7: =D7+(D7*2%) -> 190949.44 | F7: =E7+(E7*2%) -> 194768.42 | G7: =F7+(F7*2%) -> 198663.79 | H7: =G7+(G7*2%) -> 202637.07 | I7: =H7+(H7*2%) -> 206689.81 | J7: =I7+(I7*2%) -> 210823.61 | K7: =J7+(J7*2%) -> 215040.08 | L7: =K7+(K7*2%) -> 219340.88 | ... Y7: =X7+(X7*2%) -> 283740.82 | Z7: =IF(Z5<=IN!$C$47,IN!$I$5,0) -> 0 | AA7: =IF(AA5<=IN!$C$47,IN!$I$5,0) -> 0 | AB7: =IF(AB5<=IN!$C$47,IN!$I$5,0) -> 0 | AC7: =IF(AC5<=IN!$C$47,IN!$I$5,0) -> 0 | AD7: =IF(AD5<=IN!$C$47,IN!$I$5,0) -> 0 | AE7: =IF(AE5<=IN!$C$47,IN!$I$5,0) -> 0 | AF7: =IF(AF5<=IN!$C$47,IN!$I$5,0) -> 0
B8: di cui Quota Manutenzione + Gestione + oneri della sicurezza per le attività di gestione e manutenzione IP | C8: =IN!I6 -> 187023 | D8: =C8+(C8*1%) -> 188893.23 | E8: =D8+(D8*1%) -> 190782.16 | F8: =E8+(E8*1%) -> 192689.98 | G8: =F8+(F8*1%) -> 194616.88 | H8: =G8+(G8*1%) -> 196563.05 | I8: =H8+(H8*1%) -> 198528.68 | J8: =I8+(I8*1%) -> 200513.97 | K8: =J8+(J8*1%) -> 202519.11 | ... Y8: =X8+(X8*1%) -> 232790.49 | Z8: =IF(Z5<=IN!$C$47,IN!$I$6,0) -> 0 | AA8: =IF(AA5<=IN!$C$47,IN!$I$6,0) -> 0 | AB8: =IF(AB5<=IN!$C$47,IN!$I$6,0) -> 0 | AC8: =IF(AC5<=IN!$C$47,IN!$I$6,0) -> 0 | AD8: =IF(AD5<=IN!$C$47,IN!$I$6,0) -> 0 | AE8: =IF(AE5<=IN!$C$47,IN!$I$6,0) -> 0 | AF8: =IF(AF5<=IN!$C$47,IN!$I$6,0) -> 0
B9: di cui Quota Manutenzione + Gestione + oneri della sicurezza per le attività di gestione e manutenzione IS | C9: =IN!I7 -> 19860 | D9: =C9+(C9*1%) -> 20058.6 | E9: =D9+(D9*1%) -> 20259.186 | F9: =E9+(E9*1%) -> 20461.778 | G9: =F9+(F9*1%) -> 20666.396 | H9: =G9+(G9*1%) -> 20873.06 | I9: =H9+(H9*1%) -> 21081.79 | J9: =I9+(I9*1%) -> 21292.608 | K9: =J9+(J9*1%) -> 21505.534 | ... Y9: =X9+(X9*1%) -> 24720.057
B10: di cui lavori/servizi a scelta del Comune | C10: =IN!I8 -> 40000 | D10: =C10+(C10*1%) -> 40400 | E10: =D10+(D10*1%) -> 40804 | F10: =E10+(E10*1%) -> 41212.04 | G10: =F10+(F10*1%) -> 41624.16 | H10: =G10+(G10*1%) -> 42040.402 | I10: =H10+(H10*1%) -> 42460.806 | J10: =I10+(I10*1%) -> 42885.414 | K10: =J10+(J10*1%) -> 43314.268 | ... Y10: =X10+(X10*1%) -> 49788.634
B11: di cui servizio luminarie | C11: =IN!I9 -> 60000 | D11: =C11+(C11*1%) -> 60600 | E11: =D11+(D11*1%) -> 61206 | F11: =E11+(E11*1%) -> 61818.06 | G11: =F11+(F11*1%) -> 62436.241 | H11: =G11+(G11*1%) -> 63060.603 | I11: =H11+(H11*1%) -> 63691.209 | J11: =I11+(I11*1%) -> 64328.121 | K11: =J11+(J11*1%) -> 64971.402 | ... Y11: =X11+(X11*1%) -> 74682.952
B12: di cui Quota Lavori | C12: =IF(C5<=IN!$C$47,IN!$I$10,0) -> 363630.46 | D12: =IF(D5<=IN!$C$47,IN!$I$10,0) -> 363630.46 | E12: =IF(E5<=IN!$C$47,IN!$I$10,0) -> 363630.46 | F12: =IF(F5<=IN!$C$47,IN!$I$10,0) -> 363630.46 | G12: =IF(G5<=IN!$C$47,IN!$I$10,0) -> 363630.46 | H12: =IF(H5<=IN!$C$47,IN!$I$10,0) -> 363630.46 | I12: =IF(I5<=IN!$C$47,IN!$I$10,0) -> 363630.46 | J12: =IF(J5<=IN!$C$47,IN!$I$10,0) -> 363630.46 | ... AF12: =IF(AF5<=IN!$C$47,IN!$I$10,0) -> 0
B13: Altre Voci
B14: Altre Voci
B15: TOTALE RICAVI | C15: =SUM(C7:C14) -> 854048.1 | D15: =SUM(D7:D14) -> 860787.62 | E15: =SUM(E7:E14) -> 867631.25 | F15: =SUM(F7:F14) -> 874580.75 | G15: =SUM(G7:G14) -> 881637.94 | H15: =SUM(H7:H14) -> 888804.65 | I15: =SUM(I7:I14) -> 896082.76 | J15: =SUM(J7:J14) -> 903474.18 | ... AF15: =SUM(AF7:AF14) -> 0
B16: Var. Energia elettrica | C16: 446582.92 | D16: =(IN!D16+(IN!D16*2%))*IN!C18 -> 186376.99 | E16: =D16+(D16*2%) -> 190104.53 | F16: =E16+(E16*2%) -> 193906.62 | G16: =F16+(F16*2%) -> 197784.75 | H16: =G16+(G16*2%) -> 201740.44 | I16: =H16+(H16*2%) -> 205775.25 | J16: =I16+(I16*2%) -> 209890.76 | K16: =J16+(J16*2%) -> 214088.57 | L16: =K16+(K16*2%) -> 218370.34 | ... Y16: =X16+(X16*2%) -> 282485.33 | Z16: =IF(Z5<=IN!$C$47,IF(Z5<=ROUNDUP(IN!$C$49,0),(IF(IN!$C$49<0.9,IN!$C$49*IN!$C$17+(1-IN!$C$49)*IN!$C$18,0)+IF(AND(IN!$C$49>=0.9,IN!$C$49<=1),IF(Z5=1,IN!$C$17*0.985,IN!$C$18),0)+IF(IN!$C$49>1,IF(Z5=1,IN!$C$17*0.985,IN!$C$17-((IN!$C$17-IN!$C$18)/ROUND(IN!$C$49,1))*('CE CC opz1'!Z5-1)),0)),IN!$C$18)*IN!$C$16,0) -> 0 | AA16: =IF(AA5<=IN!$C$47,IF(AA5<=ROUNDUP(IN!$C$49,0),(IF(IN!$C$49<0.9,IN!$C$49*IN!$C$17+(1-IN!$C$49)*IN!$C$18,0)+IF(AND(IN!$C$49>=0.9,IN!$C$49<=1),IF(AA5=1,IN!$C$17*0.985,IN!$C$18),0)+IF(IN!$C$49>1,IF(AA5=1,IN!$C$17*0.985,IN!$C$17-((IN!$C$17-IN!$C$18)/ROUND(IN!$C$49,1))*('CE CC opz1'!AA5-1)),0)),IN!$C$18)*IN!$C$16,0) -> 0 | AB16: =IF(AB5<=IN!$C$47,IF(AB5<=ROUNDUP(IN!$C$49,0),(IF(IN!$C$49<0.9,IN!$C$49*IN!$C$17+(1-IN!$C$49)*IN!$C$18,0)+IF(AND(IN!$C$49>=0.9,IN!$C$49<=1),IF(AB5=1,IN!$C$17*0.985,IN!$C$18),0)+IF(IN!$C$49>1,IF(AB5=1,IN!$C$17*0.985,IN!$C$17-((IN!$C$17-IN!$C$18)/ROUND(IN!$C$49,1))*('CE CC opz1'!AB5-1)),0)),IN!$C$18)*IN!$C$16,0) -> 0 | AC16: =IF(AC5<=IN!$C$47,IF(AC5<=ROUNDUP(IN!$C$49,0),(IF(IN!$C$49<0.9,IN!$C$49*IN!$C$17+(1-IN!$C$49)*IN!$C$18,0)+IF(AND(IN!$C$49>=0.9,IN!$C$49<=1),IF(AC5=1,IN!$C$17*0.985,IN!$C$18),0)+IF(IN!$C$49>1,IF(AC5=1,IN!$C$17*0.985,IN!$C$17-((IN!$C$17-IN!$C$18)/ROUND(IN!$C$49,1))*('CE CC opz1'!AC5-1)),0)),IN!$C$18)*IN!$C$16,0) -> 0 | AD16: =IF(AD5<=IN!$C$47,IF(AD5<=ROUNDUP(IN!$C$49,0),(IF(IN!$C$49<0.9,IN!$C$49*IN!$C$17+(1-IN!$C$49)*IN!$C$18,0)+IF(AND(IN!$C$49>=0.9,IN!$C$49<=1),IF(AD5=1,IN!$C$17*0.985,IN!$C$18),0)+IF(IN!$C$49>1,IF(AD5=1,IN!$C$17*0.985,IN!$C$17-((IN!$C$17-IN!$C$18)/ROUND(IN!$C$49,1))*('CE CC opz1'!AD5-1)),0)),IN!$C$18)*IN!$C$16,0) -> 0 | AE16: =IF(AE5<=IN!$C$47,IF(AE5<=ROUNDUP(IN!$C$49,0),(IF(IN!$C$49<0.9,IN!$C$49*IN!$C$17+(1-IN!$C$49)*IN!$C$18,0)+IF(AND(IN!$C$49>=0.9,IN!$C$49<=1),IF(AE5=1,IN!$C$17*0.985,IN!$C$18),0)+IF(IN!$C$49>1,IF(AE5=1,IN!$C$17*0.985,IN!$C$17-((IN!$C$17-IN!$C$18)/ROUND(IN!$C$49,1))*('CE CC opz1'!AE5-1)),0)),IN!$C$18)*IN!$C$16,0) -> 0 | AF16: =IF(AF5<=IN!$C$47,IF(AF5<=ROUNDUP(IN!$C$49,0),(IF(IN!$C$49<0.9,IN!$C$49*IN!$C$17+(1-IN!$C$49)*IN!$C$18,0)+IF(AND(IN!$C$49>=0.9,IN!$C$49<=1),IF(AF5=1,IN!$C$17*0.985,IN!$C$18),0)+IF(IN!$C$49>1,IF(AF5=1,IN!$C$17*0.985,IN!$C$17-((IN!$C$17-IN!$C$18)/ROUND(IN!$C$49,1))*('CE CC opz1'!AF5-1)),0)),IN!$C$18)*IN!$C$16,0) -> 0
B17: Var. Manodopera | C17: =IF(C5<=IN!$C$47,IN!$C$26,0) -> 53015.85 | D17: =C17+(C17*1%) -> 53546.008 | E17: =D17+(D17*1%) -> 54081.469 | F17: =E17+(E17*1%) -> 54622.283 | G17: =F17+(F17*1%) -> 55168.506 | H17: =G17+(G17*1%) -> 55720.191 | I17: =H17+(H17*1%) -> 56277.393 | J17: =I17+(I17*1%) -> 56840.167 | K17: =J17+(J17*1%) -> 57408.569 | ... Y17: =X17+(X17*1%) -> 65989.669 | Z17: =IF(Z5<=IN!$C$47,IN!$C$26*IN!$C$15,0) -> 0 | AA17: =IF(AA5<=IN!$C$47,IN!$C$26*IN!$C$15,0) -> 0 | AB17: =IF(AB5<=IN!$C$47,IN!$C$26*IN!$C$15,0) -> 0 | AC17: =IF(AC5<=IN!$C$47,IN!$C$26*IN!$C$15,0) -> 0 | AD17: =IF(AD5<=IN!$C$47,IN!$C$26*IN!$C$15,0) -> 0 | AE17: =IF(AE5<=IN!$C$47,IN!$C$26*IN!$C$15,0) -> 0 | AF17: =IF(AF5<=IN!$C$47,IN!$C$26*IN!$C$15,0) -> 0
B18: Var. Materiali | C18: =IF(C5<=IN!$C$47,IN!$C$27,0) -> 17372.355 | D18: =C18+(C18*1%) -> 17546.079 | E18: =D18+(D18*1%) -> 17721.539 | F18: =E18+(E18*1%) -> 17898.755 | G18: =F18+(F18*1%) -> 18077.742 | H18: =G18+(G18*1%) -> 18258.52 | I18: =H18+(H18*1%) -> 18441.105 | J18: =I18+(I18*1%) -> 18625.516 | K18: =J18+(J18*1%) -> 18811.771 | ... Y18: =X18+(X18*1%) -> 21623.646
B19: Var. Attrezzature | C19: =IF(C5<=IN!$C$47,IN!$C$28,0) -> 7234.92 | D19: =C19+(C19*1%) -> 7307.2692 | E19: =D19+(D19*1%) -> 7380.3419 | F19: =E19+(E19*1%) -> 7454.1453 | G19: =F19+(F19*1%) -> 7528.6868 | H19: =G19+(G19*1%) -> 7603.9736 | I19: =H19+(H19*1%) -> 7680.0134 | J19: =I19+(I19*1%) -> 7756.8135 | K19: =J19+(J19*1%) -> 7834.3816 | ... Y19: =X19+(X19*1%) -> 9005.4197
B20: Var. Spese tecniche | C20: =IF(C5<=IN!$C$47,IN!$C$29,0) -> 5751.45 | D20: =C20+(C20*1%) -> 5808.9645 | E20: =D20+(D20*1%) -> 5867.0541 | F20: =E20+(E20*1%) -> 5925.7247 | G20: =F20+(F20*1%) -> 5984.9819 | H20: =G20+(G20*1%) -> 6044.8318 | I20: =H20+(H20*1%) -> 6105.2801 | J20: =I20+(I20*1%) -> 6166.3329 | K20: =J20+(J20*1%) -> 6227.9962 | ... Y20: =X20+(X20*1%) -> 7158.921
B21: Var. call center | C21: =IF(C5<=IN!$C$47,IN!$C$30,0) -> 2496 | D21: =C21+(C21*1%) -> 2520.96 | E21: =D21+(D21*1%) -> 2546.1696 | F21: =E21+(E21*1%) -> 2571.6313 | G21: =F21+(F21*1%) -> 2597.3476 | H21: =G21+(G21*1%) -> 2623.3211 | I21: =H21+(H21*1%) -> 2649.5543 | J21: =I21+(I21*1%) -> 2676.0498 | K21: =J21+(J21*1%) -> 2702.8103 | ... Y21: =X21+(X21*1%) -> 3106.8108
B22: Var. sistemi informativi | C22: =IF(C5<=IN!$C$47,IN!$C$31,0) -> 3118.5 | D22: =C22+(C22*1%) -> 3149.685 | E22: =D22+(D22*1%) -> 3181.1818 | F22: =E22+(E22*1%) -> 3212.9937 | G22: =F22+(F22*1%) -> 3245.1236 | H22: =G22+(G22*1%) -> 3277.5748 | I22: =H22+(H22*1%) -> 3310.3506 | J22: =I22+(I22*1%) -> 3343.4541 | K22: =J22+(J22*1%) -> 3376.8886 | ... Y22: =X22+(X22*1%) -> 3881.6464
B23: Var. reperibilità e pronto intervento | C23: =IF(C5<=IN!$C$47,IN!$C$32,0) -> 12474 | D23: =C23+(C23*1%) -> 12598.74 | E23: =D23+(D23*1%) -> 12724.727 | F23: =E23+(E23*1%) -> 12851.975 | G23: =F23+(F23*1%) -> 12980.494 | H23: =G23+(G23*1%) -> 13110.299 | I23: =H23+(H23*1%) -> 13241.402 | J23: =I23+(I23*1%) -> 13373.816 | K23: =J23+(J23*1%) -> 13507.555 | ... Y23: =X23+(X23*1%) -> 15526.586
B24: Var. materiale di consumo | C24: =IF(C5<=IN!$C$47,IN!$C$34,0) -> 3118.5 | D24: =C24+(C24*1%) -> 3149.685 | E24: =D24+(D24*1%) -> 3181.1818 | F24: =E24+(E24*1%) -> 3212.9937 | G24: =F24+(F24*1%) -> 3245.1236 | H24: =G24+(G24*1%) -> 3277.5748 | I24: =H24+(H24*1%) -> 3310.3506 | J24: =I24+(I24*1%) -> 3343.4541 | K24: =J24+(J24*1%) -> 3376.8886 | ... Y24: =X24+(X24*1%) -> 3881.6464
B25: interventi per rinnovo tecnologico | J25: 30000 | P25: 30000
B26: lavori/servizi a scelta del Comune | C26: =IF(C5<=IN!$C$47,IN!$C$35,0) -> 38000 | D26: =C26+(C26*1%) -> 38380 | E26: =D26+(D26*1%) -> 38763.8 | F26: =E26+(E26*1%) -> 39151.438 | G26: =F26+(F26*1%) -> 39542.952 | H26: =G26+(G26*1%) -> 39938.382 | I26: =H26+(H26*1%) -> 40337.766 | J26: =I26+(I26*1%) -> 40741.143 | K26: =J26+(J26*1%) -> 41148.555 | ... Y26: =X26+(X26*1%) -> 47299.203
B27: servizio luminarie | C27: =IF(C5<=IN!$C$47,IN!$C$33,0) -> 48000 | D27: =C27+(C27*1%) -> 48480 | E27: =D27+(D27*1%) -> 48964.8 | F27: =E27+(E27*1%) -> 49454.448 | G27: =F27+(F27*1%) -> 49948.992 | H27: =G27+(G27*1%) -> 50448.482 | I27: =H27+(H27*1%) -> 50952.967 | J27: =I27+(I27*1%) -> 51462.497 | K27: =J27+(J27*1%) -> 51977.122 | ... Y27: =X27+(X27*1%) -> 59746.361
B28: costi generali | C28: =IF(C5<=IN!$C$47,IN!$C$39,0) -> 5000 | D28: =C28+(C28*1%) -> 5050 | E28: =D28+(D28*1%) -> 5100.5 | F28: =E28+(E28*1%) -> 5151.505 | G28: =F28+(F28*1%) -> 5203.0201 | H28: =G28+(G28*1%) -> 5255.0503 | I28: =H28+(H28*1%) -> 5307.6008 | J28: =I28+(I28*1%) -> 5360.6768 | K28: =J28+(J28*1%) -> 5414.2835 | ... Y28: =X28+(X28*1%) -> 6223.5793 | Z28: =IF(Z5<=IN!$C$47,IN!#REF!*IN!$C$15,0) -> 0 | AA28: =IF(AA5<=IN!$C$47,IN!#REF!*IN!$C$15,0) -> 0 | AB28: =IF(AB5<=IN!$C$47,IN!#REF!*IN!$C$15,0) -> 0 | AC28: =IF(AC5<=IN!$C$47,IN!#REF!*IN!$C$15,0) -> 0 | AD28: =IF(AD5<=IN!$C$47,IN!#REF!*IN!$C$15,0) -> 0 | AE28: =IF(AE5<=IN!$C$47,IN!#REF!*IN!$C$15,0) -> 0 | AF28: =IF(AF5<=IN!$C$47,IN!#REF!*IN!$C$15,0) -> 0
B29: TOTALE COSTI DIRETTI ESTERNI | C29: =SUM(C16:C28) -> 642164.5 | D29: =SUM(D16:D28) -> 383914.38 | E29: =SUM(E16:E28) -> 389617.29 | F29: =SUM(F16:F28) -> 395414.51 | G29: =SUM(G16:G28) -> 401307.72 | H29: =SUM(H16:H28) -> 407298.65 | I29: =SUM(I16:I28) -> 413389.04 | J29: =SUM(J16:J28) -> 449580.68 | ... AF29: =SUM(AF16:AF28) -> 0
B30: MARGINE DI CONTRIBUZIONE | C30: =C15-C29 -> 211883.6 | D30: =D15-D29 -> 476873.24 | E30: =E15-E29 -> 478013.96 | F30: =F15-F29 -> 479166.24 | G30: =G15-G29 -> 480330.22 | H30: =H15-H29 -> 481506 | I30: =I15-I29 -> 482693.72 | J30: =J15-J29 -> 453893.5 | ... AF30: =AF15-AF29 -> 0
B31: MC % | C31: =IF(C5<=IN!$C$47,'CE CC opz1'!C30/'CE CC opz1'!C15,"") -> 0.24809329 | D31: =IF(D5<=IN!$C$47,'CE CC opz1'!D30/'CE CC opz1'!D15,"") -> 0.5539964 | E31: =IF(E5<=IN!$C$47,'CE CC opz1'!E30/'CE CC opz1'!E15,"") -> 0.55094138 | F31: =IF(F5<=IN!$C$47,'CE CC opz1'!F30/'CE CC opz1'!F15,"") -> 0.54788107 | G31: =IF(G5<=IN!$C$47,'CE CC opz1'!G30/'CE CC opz1'!G15,"") -> 0.54481573 | H31: =IF(H5<=IN!$C$47,'CE CC opz1'!H30/'CE CC opz1'!H15,"") -> 0.5417456 | I31: =IF(I5<=IN!$C$47,'CE CC opz1'!I30/'CE CC opz1'!I15,"") -> 0.53867092 | J31: =IF(J5<=IN!$C$47,'CE CC opz1'!J30/'CE CC opz1'!J15,"") -> 0.5023868 | ... AF31: =IF(AF5<=IN!$C$47,'CE CC opz1'!AF30/'CE CC opz1'!AF15,"")
B32: Var. Personale | C32: =C34*C33 -> 1873.238 | D32: =D34*D33 -> 1891.9704 | E32: =E34*E33 -> 1910.8901 | F32: =F34*F33 -> 1929.999 | G32: =G34*G33 -> 1949.299 | H32: =H34*H33 -> 1968.792 | I32: =I34*I33 -> 1988.4799 | J32: =J34*J33 -> 2008.3647 | ... AF32: =AF34*AF33 -> 0
B33: FTE medi annui | C33: =IF(C5<=IN!$C$47,IN!$C$36,0) -> 0.04 | D33: =IF(D5<=IN!$C$47,IN!$C$36,0) -> 0.04 | E33: =IF(E5<=IN!$C$47,IN!$C$36,0) -> 0.04 | F33: =IF(F5<=IN!$C$47,IN!$C$36,0) -> 0.04 | G33: =IF(G5<=IN!$C$47,IN!$C$36,0) -> 0.04 | H33: =IF(H5<=IN!$C$47,IN!$C$36,0) -> 0.04 | I33: =IF(I5<=IN!$C$47,IN!$C$36,0) -> 0.04 | J33: =IF(J5<=IN!$C$47,IN!$C$36,0) -> 0.04 | ... AF33: =IF(AF5<=IN!$C$47,IN!$C$36,0) -> 0
B34: Costo medio | C34: =IF(C5<=IN!$C$47,IN!$C$37,0) -> 46830.95 | D34: =C34+(C34*1%) -> 47299.26 | E34: =D34+(D34*1%) -> 47772.252 | F34: =E34+(E34*1%) -> 48249.975 | G34: =F34+(F34*1%) -> 48732.474 | H34: =G34+(G34*1%) -> 49219.799 | I34: =H34+(H34*1%) -> 49711.997 | J34: =I34+(I34*1%) -> 50209.117 | K34: =J34+(J34*1%) -> 50711.208 | ... V34: =U34+(U34*1%) -> 56576.89 | W34: =IF(W5<=IN!$C$47,IN!$C$37,0) -> 46830.95 | X34: =IF(X5<=IN!$C$47,IN!$C$37,0) -> 46830.95 | Y34: =IF(Y5<=IN!$C$47,IN!$C$37,0) -> 46830.95 | Z34: =IF(Z5<=IN!$C$47,IN!$C$37,0) -> 0 | AA34: =IF(AA5<=IN!$C$47,IN!$C$37,0) -> 0 | AB34: =IF(AB5<=IN!$C$47,IN!$C$37,0) -> 0 | AC34: =IF(AC5<=IN!$C$47,IN!$C$37,0) -> 0 | AD34: =IF(AD5<=IN!$C$47,IN!$C$37,0) -> 0 | ... AF34: =IF(AF5<=IN!$C$47,IN!$C$37,0) -> 0
B35: Altri costi (spese per incentivi, per funzioni tecniche, pubblicità e contratto, analisi e collaudi) | C35: =IN!I38 -> 199875.78 | D35: 0 | E35: 0 | F35: 0 | G35: 0 | H35: 0 | I35: 0 | J35: 0 | K35: 0 | L35: 0 | M35: 0 | N35: 0 | O35: 0 | P35: 0 | Q35: 0 | R35: 0 | S35: 0 | T35: 0 | U35: 0 | V35: 0 | W35: 0 | X35: 0 | Y35: 0 | Z35: 0 | AA35: 0 | AB35: 0 | AC35: 0 | AD35: 0 | AE35: 0 | AF35: 0
B36: TOTALE ALTRI COSTI | C36: =SUM(C32,C35) -> 201749.02 | D36: =SUM(D32,D35) -> 1891.9704 | E36: =SUM(E32,E35) -> 1910.8901 | F36: =SUM(F32,F35) -> 1929.999 | G36: =SUM(G32,G35) -> 1949.299 | H36: =SUM(H32,H35) -> 1968.792 | I36: =SUM(I32,I35) -> 1988.4799 | J36: =SUM(J32,J35) -> 2008.3647 | ... AF36: =SUM(AF32,AF35) -> 0
B37: EBITDA | C37: =C15-C29-C36 -> 10134.581 | D37: =D15-D29-D36 -> 474981.27 | E37: =E15-E29-E36 -> 476103.07 | F37: =F15-F29-F36 -> 477236.24 | G37: =G15-G29-G36 -> 478380.92 | H37: =H15-H29-H36 -> 479537.21 | I37: =I15-I29-I36 -> 480705.24 | J37: =J15-J29-J36 -> 451885.14 | ... AF37: =AF15-AF29-AF36 -> 0
B38: EBITDA % | C38: =IF(C5<=IN!$C$47,'CE CC opz1'!C37/'CE CC opz1'!C15,"") -> 0.011866522 | D38: =IF(D5<=IN!$C$47,'CE CC opz1'!D37/'CE CC opz1'!D15,"") -> 0.55179845 | E38: =IF(E5<=IN!$C$47,'CE CC opz1'!E37/'CE CC opz1'!E15,"") -> 0.54873896 | F38: =IF(F5<=IN!$C$47,'CE CC opz1'!F37/'CE CC opz1'!F15,"") -> 0.5456743 | G38: =IF(G5<=IN!$C$47,'CE CC opz1'!G37/'CE CC opz1'!G15,"") -> 0.54260473 | H38: =IF(H5<=IN!$C$47,'CE CC opz1'!H37/'CE CC opz1'!H15,"") -> 0.53953049 | I38: =IF(I5<=IN!$C$47,'CE CC opz1'!I37/'CE CC opz1'!I15,"") -> 0.53645184 | J38: =IF(J5<=IN!$C$47,'CE CC opz1'!J37/'CE CC opz1'!J15,"") -> 0.50016386 | ... AF38: =IF(AF5<=IN!$C$47,'CE CC opz1'!AF37/'CE CC opz1'!AF15,"")
B39: Ammortamenti | C39: =Investimenti!G41 -> 235119.71 | D39: =Investimenti!H41 -> 235119.71 | E39: =Investimenti!I41 -> 235119.71 | F39: =Investimenti!J41 -> 235119.71 | G39: =Investimenti!K41 -> 235119.71 | H39: =Investimenti!L41 -> 235119.71 | I39: =Investimenti!M41 -> 235119.71 | J39: =Investimenti!N41 -> 235119.71 | ... AF39: =Investimenti!AJ41 -> 0
B40: EBIT | C40: =C37-C39 -> -224985.12 | D40: =D37-D39 -> 239861.57 | E40: =E37-E39 -> 240983.36 | F40: =F37-F39 -> 242116.54 | G40: =G37-G39 -> 243261.21 | H40: =H37-H39 -> 244417.51 | I40: =I37-I39 -> 245585.54 | J40: =J37-J39 -> 216765.43 | ... AF40: =AF37-AF39 -> 0
B41: EBIT % | C41: =IF(C5<=IN!$C$47,'CE CC opz1'!C40/'CE CC opz1'!C15,"") -> -0.26343379 | D41: =IF(D5<=IN!$C$47,'CE CC opz1'!D40/'CE CC opz1'!D15,"") -> 0.2786536 | E41: =IF(E5<=IN!$C$47,'CE CC opz1'!E40/'CE CC opz1'!E15,"") -> 0.2777486 | F41: =IF(F5<=IN!$C$47,'CE CC opz1'!F40/'CE CC opz1'!F15,"") -> 0.27683726 | G41: =IF(G5<=IN!$C$47,'CE CC opz1'!G40/'CE CC opz1'!G15,"") -> 0.27591963 | H41: =IF(H5<=IN!$C$47,'CE CC opz1'!H40/'CE CC opz1'!H15,"") -> 0.27499576 | I41: =IF(I5<=IN!$C$47,'CE CC opz1'!I40/'CE CC opz1'!I15,"") -> 0.27406569 | J41: =IF(J5<=IN!$C$47,'CE CC opz1'!J40/'CE CC opz1'!J15,"") -> 0.23992432 | ... AF41: =IF(AF5<=IN!$C$47,'CE CC opz1'!AF40/'CE CC opz1'!AF15,"")
...

Sheet RF VAL_INV opz1
B2: RENDICONTO FINANZIARIO (VAN E TIR DI PROGETTO)
B3: Dati in €
B4: Anno | C4: anno 1 | D4: anno 2 | E4: anno 3 | F4: anno 4 | G4: anno 5 | H4: anno 6 | I4: anno 7 | J4: anno 8 | K4: anno 9 | L4: anno 10 | M4: anno 11 | N4: anno 12 | O4: anno 13 | P4: anno 14 | Q4: anno 15 | R4: anno 16 | S4: anno 17 | T4: anno 18 | U4: anno 19 | V4: anno 20 | W4: anno 21 | X4: anno 22 | Y4: anno 23 | Z4: =Y4+1 -> #VALUE! | AA4: =Z4+1 -> #VALUE! | AB4: =AA4+1 -> #VALUE! | AC4: =AB4+1 -> #VALUE! | AD4: =AC4+1 -> #VALUE! | AE4: =AD4+1 -> #VALUE! | AF4: =AE4+1 -> #VALUE! | AG4: =AF4+1 -> #VALUE!
C5: 1 | D5: =C5+1 -> 2 | E5: =D5+1 -> 3 | F5: =E5+1 -> 4 | G5: =F5+1 -> 5 | H5: =G5+1 -> 6 | I5: =H5+1 -> 7 | J5: =I5+1 -> 8 | K5: =J5+1 -> 9 | ... AG5: =AF5+1 -> 31
B6: + EBIT | C6: ='CE CC opz1'!C40 -> -224985.12 | D6: ='CE CC opz1'!D40 -> 239861.57 | E6: ='CE CC opz1'!E40 -> 240983.36 | F6: ='CE CC opz1'!F40 -> 242116.54 | G6: ='CE CC opz1'!G40 -> 243261.21 | H6: ='CE CC opz1'!H40 -> 244417.51 | I6: ='CE CC opz1'!I40 -> 245585.54 | J6: ='CE CC opz1'!J40 -> 216765.43 | ... AF6: ='CE CC opz1'!AF40 -> 0
B7: + Ammortamenti | C7: ='CE CC opz1'!C39 -> 235119.71 | D7: ='CE CC opz1'!D39 -> 235119.71 | E7: ='CE CC opz1'!E39 -> 235119.71 | F7: ='CE CC opz1'!F39 -> 235119.71 | G7: ='CE CC opz1'!G39 -> 235119.71 | H7: ='CE CC opz1'!H39 -> 235119.71 | I7: ='CE CC opz1'!I39 -> 235119.71 | J7: ='CE CC opz1'!J39 -> 235119.71 | ... AF7: ='CE CC opz1'!AF39 -> 0
B8: - Imposte (su EBIT) | C8: =IF(C5<=IN!$C$47,IF(C6>0,-C6*IN!$C$54,0),0)+IF(C5<=IN!$C$47,IF((C6+'CE CC opz1'!C32)>0,-(C6+'CE CC opz1'!C32)*IN!$C$55,0),0) -> 0 | D8: =IF(D5<=IN!$C$47,IF(D6>0,-D6*IN!$C$54,0),0)+IF(D5<=IN!$C$47,IF((D6+'CE CC opz1'!D32)>0,-(D6+'CE CC opz1'!D32)*IN!$C$55,0),0) -> -67720.425 | E8: =IF(E5<=IN!$C$47,IF(E6>0,-E6*IN!$C$54,0),0)+IF(E5<=IN!$C$47,IF((E6+'CE CC opz1'!E32)>0,-(E6+'CE CC opz1'!E32)*IN!$C$55,0),0) -> -68037.565 | F8: =IF(F5<=IN!$C$47,IF(F6>0,-F6*IN!$C$54,0),0)+IF(F5<=IN!$C$47,IF((F6+'CE CC opz1'!F32)>0,-(F6+'CE CC opz1'!F32)*IN!$C$55,0),0) -> -68357.923 | G8: =IF(G5<=IN!$C$47,IF(G6>0,-G6*IN!$C$54,0),0)+IF(G5<=IN!$C$47,IF((G6+'CE CC opz1'!G32)>0,-(G6+'CE CC opz1'!G32)*IN!$C$55,0),0) -> -68681.532 | H8: =IF(H5<=IN!$C$47,IF(H6>0,-H6*IN!$C$54,0),0)+IF(H5<=IN!$C$47,IF((H6+'CE CC opz1'!H32)>0,-(H6+'CE CC opz1'!H32)*IN!$C$55,0),0) -> -69008.426 | I8: =IF(I5<=IN!$C$47,IF(I6>0,-I6*IN!$C$54,0),0)+IF(I5<=IN!$C$47,IF((I6+'CE CC opz1'!I32)>0,-(I6+'CE CC opz1'!I32)*IN!$C$55,0),0) -> -69338.638 | J8: =IF(J5<=IN!$C$47,IF(J6>0,-J6*IN!$C$54,0),0)+IF(J5<=IN!$C$47,IF((J6+'CE CC opz1'!J32)>0,-(J6+'CE CC opz1'!J32)*IN!$C$55,0),0) -> -61212.203 | ... AF8: =IF(AF5<=IN!$C$47,IF(AF6>0,-AF6*IN!$C$54,0),0)+IF(AF5<=IN!$C$47,IF((AF6+'CE CC opz1'!AF32)>0,-(AF6+'CE CC opz1'!AF32)*IN!$C$55,0),0) -> 0
B9: - Investimenti | C9: =-Investimenti!G7 -> -5407753.2 | D9: =-Investimenti!H7 -> 0 | E9: =-Investimenti!I7 -> 0 | F9: =-Investimenti!J7 -> 0 | G9: =-Investimenti!K7 -> 0 | H9: =-Investimenti!L7 -> 0 | I9: =-Investimenti!M7 -> 0 | J9: =-Investimenti!N7 -> 0 | ... AF9: =-Investimenti!AJ7 -> 0
B10: - Variazione Circolante | C10: =-'CE CC opz1'!C91 -> 1082105.7 | D10: =-'CE CC opz1'!D91 -> -1177741.6 | E10: =-'CE CC opz1'!E91 -> -228.76729 | F10: =-'CE CC opz1'!F91 -> -231.08819 | G10: =-'CE CC opz1'!G91 -> -233.43296 | H10: =-'CE CC opz1'!H91 -> -235.80186 | I10: =-'CE CC opz1'!I91 -> -238.19514 | J10: =-'CE CC opz1'!J91 -> 5775.8253 | ... AG10: =-'CE CC opz1'!AG91 -> 0
B11: Cash Flow | C11: =SUM(C6:C10) -> -4315513 | D11: =SUM(D6:D10) -> -770480.75 | E11: =SUM(E6:E10) -> 407836.73 | F11: =SUM(F6:F10) -> 408647.23 | G11: =SUM(G6:G10) -> 409465.95 | H11: =SUM(H6:H10) -> 410292.98 | I11: =SUM(I6:I10) -> 411128.41 | J11: =SUM(J6:J10) -> 396448.76 | ... AG11: =SUM(AG6:AG10) -> 0
B12: Discounted Cash Flow | C12: =C11/((1+$C$14)^(C5-1)) -> -4315513 | D12: =D11/((1+$C$14)^(D5-1)) -> -733930.99 | E12: =E11/((1+$C$14)^(E5-1)) -> 370060.9 | F12: =F11/((1+$C$14)^(F5-1)) -> 353206.64 | G12: =G11/((1+$C$14)^(G5-1)) -> 337125.44 | H12: =H11/((1+$C$14)^(H5-1)) -> 321781.63 | I12: =I11/((1+$C$14)^(I5-1)) -> 307141.2 | J12: =J11/((1+$C$14)^(J5-1)) -> 282124.68 | ... AG12: =AG11/((1+$C$14)^(AG5-1)) -> 0
B14: WACC | C14: =IN!C44 -> 0.0498
B15: VAN progetto | C15: =C11+NPV(C14,D11:AG11) -> 33936.803
B16: TIR progetto | C16: =IRR(C11:AG11,0.1%) -> 0.050486187
B19: RENDICONTO FINANZIARIO (VAN E TIR DELL'AZIONISTA)
B20: Dati in €
B21: Anno | C21: anno 1 | D21: anno 2 | E21: anno 3 | F21: anno 4 | G21: anno 5 | H21: anno 6 | I21: anno 7 | J21: anno 8 | K21: anno 9 | L21: anno 10 | M21: anno 11 | N21: anno 12 | O21: anno 13 | P21: anno 14 | Q21: anno 15 | R21: anno 16 | S21: anno 17 | T21: anno 18 | U21: anno 19 | V21: anno 20 | W21: anno 21 | X21: anno 22 | Y21: anno 23 | Z21: =Y21+1 -> #VALUE! | AA21: =Z21+1 -> #VALUE! | AB21: =AA21+1 -> #VALUE! | AC21: =AB21+1 -> #VALUE! | AD21: =AC21+1 -> #VALUE! | AE21: =AD21+1 -> #VALUE! | AF21: =AE21+1 -> #VALUE! | AG21: =AF21+1 -> #VALUE!
C22: 1 | D22: =C22+1 -> 2 | E22: =D22+1 -> 3 | F22: =E22+1 -> 4 | G22: =F22+1 -> 5 | H22: =G22+1 -> 6 | I22: =H22+1 -> 7 | J22: =I22+1 -> 8 | K22: =J22+1 -> 9 | ... AG22: =AF22+1 -> 31
B23: + EBIT | C23: ='CE CC opz1'!C40 -> -224985.12 | D23: ='CE CC opz1'!D40 -> 239861.57 | E23: ='CE CC opz1'!E40 -> 240983.36 | F23: ='CE CC opz1'!F40 -> 242116.54 | G23: ='CE CC opz1'!G40 -> 243261.21 | H23: ='CE CC opz1'!H40 -> 244417.51 | I23: ='CE CC opz1'!I40 -> 245585.54 | J23: ='CE CC opz1'!J40 -> 216765.43 | ... AF23: ='CE CC opz1'!AF40 -> 0
B24: + Ammortamenti | C24: ='CE CC opz1'!C39 -> 235119.71 | D24: ='CE CC opz1'!D39 -> 235119.71 | E24: ='CE CC opz1'!E39 -> 235119.71 | F24: ='CE CC opz1'!F39 -> 235119.71 | G24: ='CE CC opz1'!G39 -> 235119.71 | H24: ='CE CC opz1'!H39 -> 235119.71 | I24: ='CE CC opz1'!I39 -> 235119.71 | J24: ='CE CC opz1'!J39 -> 235119.71 | ... AF24: ='CE CC opz1'!AF39 -> 0
B25: - Imposte | C25: =IF(C22<=IN!$C$47,('CE CC opz1'!C45+'CE CC opz1'!C46)*-1,0) -> 71478.77 | D25: =IF(D22<=IN!$C$47,('CE CC opz1'!D45+'CE CC opz1'!D46)*-1,0) -> -50790.418 | E25: =IF(E22<=IN!$C$47,('CE CC opz1'!E45+'CE CC opz1'!E46)*-1,0) -> -51675.301 | F25: =IF(F22<=IN!$C$47,('CE CC opz1'!F45+'CE CC opz1'!F46)*-1,0) -> -52579.243 | G25: =IF(G22<=IN!$C$47,('CE CC opz1'!G45+'CE CC opz1'!G46)*-1,0) -> -53502.718 | H25: =IF(H22<=IN!$C$47,('CE CC opz1'!H45+'CE CC opz1'!H46)*-1,0) -> -54446.213 | I25: =IF(I22<=IN!$C$47,('CE CC opz1'!I45+'CE CC opz1'!I46)*-1,0) -> -55410.23 | J25: =IF(J22<=IN!$C$47,('CE CC opz1'!J45+'CE CC opz1'!J46)*-1,0) -> -47935.284 | ... AG25: =IF(AG22<=IN!$C$47,('CE CC opz1'!AG45+'CE CC opz1'!AG46)*-1,0) -> 0
B26: - Investimenti | C26: =-Investimenti!G7 -> -5407753.2 | D26: =-Investimenti!H7 -> 0 | E26: =-Investimenti!I7 -> 0 | F26: =-Investimenti!J7 -> 0 | G26: =-Investimenti!K7 -> 0 | H26: =-Investimenti!L7 -> 0 | I26: =-Investimenti!M7 -> 0 | J26: =-Investimenti!N7 -> 0 | ... AF26: =-Investimenti!AJ7 -> 0
B27: - Variazione Circolante | C27: =-'CE CC opz1'!C91 -> 1082105.7 | D27: =-'CE CC opz1'!D91 -> -1177741.6 | E27: =-'CE CC opz1'!E91 -> -228.76729 | F27: =-'CE CC opz1'!F91 -> -231.08819 | G27: =-'CE CC opz1'!G91 -> -233.43296 | H27: =-'CE CC opz1'!H91 -> -235.80186 | I27: =-'CE CC opz1'!I91 -> -238.19514 | J27: =-'CE CC opz1'!J91 -> 5775.8253 | ... AG27: =-'CE CC opz1'!AG91 -> 0
B28: + Erogazione finanziamenti | C28: =IN!Q52 -> 2610863.3
B29: - Rimborso finanziamenti | C29: =IN!O57*-1 -> -155330.15 | D29: =IN!O58*-1 -> -155330.15 | E29: =IN!O59*-1 -> -155330.15 | F29: =IN!O60*-1 -> -155330.15 | G29: =IN!O61*-1 -> -155330.15 | H29: =IN!O62*-1 -> -155330.15 | I29: =IN!O63*-1 -> -155330.15 | J29: =IN!O64*-1 -> -155330.15 | K29: =IN!O65*-1 -> -155330.15 | L29: =IN!O66*-1 -> -155330.15 | M29: =IN!O67*-1 -> -155330.15 | N29: =IN!O68*-1 -> -155330.15 | O29: =IN!O69*-1 -> -155330.15 | P29: =IN!O70*-1 -> -155330.15 | Q29: =IN!O71*-1 -> -155330.15 | R29: =IN!O72*-1 -> -155330.15 | S29: =IN!O73*-1 -> -155330.15 | T29: =IN!O74*-1 -> -155330.15 | U29: =IN!O75*-1 -> -155330.15 | V29: =IN!O76*-1 -> -155330.15 | W29: =IN!O77*-1 -> -155330.15 | X29: =IN!O78*-1 -> -155330.15 | Y29: =IN!O79*-1 -> -155330.15 | Z29: =IN!O80*-1 -> 0 | AA29: =IN!O81*-1 -> 0 | AB29: =IN!O82*-1 -> 0 | AC29: =IN!O83*-1 -> 0 | AD29: =IN!O84*-1 -> 0 | AE29: =IN!O85*-1 -> 0 | AF29: =IN!O86*-1 -> 0
B30: Cash Flow | C30: =SUM(C23:C29) -> -1788501.1 | D30: =SUM(D23:D29) -> -908880.89 | E30: =SUM(E23:E29) -> 268868.85 | F30: =SUM(F23:F29) -> 269095.76 | G30: =SUM(G23:G29) -> 269314.62 | H30: =SUM(H23:H29) -> 269525.05 | I30: =SUM(I23:I29) -> 269726.67 | J30: =SUM(J23:J29) -> 254395.53 | ... AG30: =SUM(AG23:AG29) -> 0
B31: Discounted Cash Flow | C31: =C30/((1+$C$33)^(C22-1)) -> -1788501.1 | D31: =D30/((1+$C$33)^(D22-1)) -> -849224.51 | E31: =E30/((1+$C$33)^(E22-1)) -> 234731.61 | F31: =F30/((1+$C$33)^(F22-1)) -> 219509.59 | G31: =G30/((1+$C$33)^(G22-1)) -> 205268.41 | H31: =H30/((1+$C$33)^(H22-1)) -> 191945.03 | I31: =I30/((1+$C$33)^(I22-1)) -> 179480.46 | J31: =J30/((1+$C$33)^(J22-1)) -> 158167.89 | ... AG31: =AG30/((1+$C$33)^(AG22-1)) -> 0
B33: Ke | C33: =IN!C45 -> 0.070248069
B34: VAN azionista | C34: =C30+NPV(C33,D30:AG30) -> 91800.797
B35: TIR azionista | C35: =IRR(C30:AG30,0.1%) -> 0.074180324
B38: PAYBACK PERIOD
B40: PAYBACK PERIOD (anni) Discounted Cash Flow | C40: =SUM(C48:AG48)+1 -> 23
B41: PAYBACK PERIOD (anni) Cash Flow | C41: =SUM(C53:AG53)+1 -> 15
B45: PAYBACK PERIOD (anni) Discounted Cash Flow
B46: ANNO | C46: 1 | D46: =C46+1 -> 2 | E46: =D46+1 -> 3 | F46: =E46+1 -> 4 | G46: =F46+1 -> 5 | H46: =G46+1 -> 6 | I46: =H46+1 -> 7 | J46: =I46+1 -> 8 | K46: =J46+1 -> 9 | ... AG46: =AF46+1 -> 31
B47: RITORNO DEGLI INVESTIMENTI | C47: =C12 -> -4315513 | D47: =IF(D46<=(IN!$C$47+1),SUM($C$12:D12),0) -> -5049444 | E47: =IF(E46<=(IN!$C$47+1),SUM($C$12:E12),0) -> -4679383.1 | F47: =IF(F46<=(IN!$C$47+1),SUM($C$12:F12),0) -> -4326176.4 | G47: =IF(G46<=(IN!$C$47+1),SUM($C$12:G12),0) -> -3989051 | H47: =IF(H46<=(IN!$C$47+1),SUM($C$12:H12),0) -> -3667269.4 | I47: =IF(I46<=(IN!$C$47+1),SUM($C$12:I12),0) -> -3360128.2 | J47: =IF(J46<=(IN!$C$47+1),SUM($C$12:J12),0) -> -3078003.5 | K47: =IF(K46<=(IN!$C$47+1),SUM($C$12:K12),0) -> -2802239.6 | ... AG47: =IF(AG46<=(IN!$C$47+1),SUM($C$12:AG12),0) -> 0
B48: NR. ANNI | C48: =IF(AND(C46<=IN!$C$47,'RF VAL_INV opz1'!C47<=0),1,0) -> 1 | D48: =IF(AND(D46<=IN!$C$47,'RF VAL_INV opz1'!D47<=0),1,0) -> 1 | E48: =IF(AND(E46<=IN!$C$47,'RF VAL_INV opz1'!E47<=0),1,0) -> 1 | F48: =IF(AND(F46<=IN!$C$47,'RF VAL_INV opz1'!F47<=0),1,0) -> 1 | G48: =IF(AND(G46<=IN!$C$47,'RF VAL_INV opz1'!G47<=0),1,0) -> 1 | H48: =IF(AND(H46<=IN!$C$47,'RF VAL_INV opz1'!H47<=0),1,0) -> 1 | I48: =IF(AND(I46<=IN!$C$47,'RF VAL_INV opz1'!I47<=0),1,0) -> 1 | J48: =IF(AND(J46<=IN!$C$47,'RF VAL_INV opz1'!J47<=0),1,0) -> 1 | ... AG48: =IF(AND(AG46<=IN!$C$47,'RF VAL_INV opz1'!AG47<=0),1,0) -> 0
B50: PAYBACK PERIOD (anni) Cash Flow
B51: ANNO | C51: 1 | D51: =C51+1 -> 2 | E51: =D51+1 -> 3 | F51: =E51+1 -> 4 | G51: =F51+1 -> 5 | H51: =G51+1 -> 6 | I51: =H51+1 -> 7 | J51: =I51+1 -> 8 | K51: =J51+1 -> 9 | ... AG51: =AF51+1 -> 31
B52: RITORNO DEGLI INVESTIMENTI | C52: =C11 -> -4315513 | D52: =IF(D51<=(IN!$C$47+1),SUM($C$11:D11),0) -> -5085993.7 | E52: =IF(E51<=(IN!$C$47+1),SUM($C$11:E11),0) -> -4678157 | F52: =IF(F51<=(IN!$C$47+1),SUM($C$11:F11),0) -> -4269509.8 | G52: =IF(G51<=(IN!$C$47+1),SUM($C$11:G11),0) -> -3860043.8 | H52: =IF(H51<=(IN!$C$47+1),SUM($C$11:H11),0) -> -3449750.8 | I52: =IF(I51<=(IN!$C$47+1),SUM($C$11:I11),0) -> -3038622.4 | J52: =IF(J51<=(IN!$C$47+1),SUM($C$11:J11),0) -> -2642173.7 | K52: =IF(K51<=(IN!$C$47+1),SUM($C$11:K11),0) -> -2235365.3 | ... AG52: =IF(AG51<=(IN!$C$47+1),SUM($C$11:AG11),0) -> 0
...

Sheet SP opz1
B4: DINAMICA PATRIMONIALE
B5: Dati in €
B6: Anno | C6: anno 1 | D6: anno 2 | E6: anno 3 | F6: anno 4 | G6: anno 5 | H6: anno 6 | I6: anno 7 | J6: anno 8 | K6: anno 9 | L6: anno 10 | M6: anno 11 | N6: anno 12 | O6: anno 13 | P6: anno 14 | Q6: anno 15 | R6: anno 16 | S6: anno 17 | T6: anno 18 | U6: anno 19 | V6: anno 20 | W6: anno 21 | X6: anno 22 | Y6: anno 23 | Z6: =Y6+1 -> #VALUE! | AA6: =Z6+1 -> #VALUE! | AB6: =AA6+1 -> #VALUE! | AC6: =AB6+1 -> #VALUE! | AD6: =AC6+1 -> #VALUE! | AE6: =AD6+1 -> #VALUE! | AF6: =AE6+1 -> #VALUE!
C7: 1 | D7: =C7+1 -> 2 | E7: =D7+1 -> 3 | F7: =E7+1 -> 4 | G7: =F7+1 -> 5 | H7: =G7+1 -> 6 | I7: =H7+1 -> 7 | J7: =I7+1 -> 8 | K7: =J7+1 -> 9 | ... AF7: =AE7+1 -> 30
B8: Immobilizzazioni nette | C8: =Investimenti!G33-Investimenti!G41 -> 5172633.5 | D8: =IF(D7<=IN!$C$47,SUM(Investimenti!$G$33:H33)-SUM(Investimenti!$G$41:H41),0) -> 4937513.8 | E8: =IF(E7<=IN!$C$47,SUM(Investimenti!$G$33:I33)-SUM(Investimenti!$G$41:I41),0) -> 4702394.1 | F8: =IF(F7<=IN!$C$47,SUM(Investimenti!$G$33:J33)-SUM(Investimenti!$G$41:J41),0) -> 4467274.4 | G8: =IF(G7<=IN!$C$47,SUM(Investimenti!$G$33:K33)-SUM(Investimenti!$G$41:K41),0) -> 4232154.7 | H8: =IF(H7<=IN!$C$47,SUM(Investimenti!$G$33:L33)-SUM(Investimenti!$G$41:L41),0) -> 3997035 | I8: =IF(I7<=IN!$C$47,SUM(Investimenti!$G$33:M33)-SUM(Investimenti!$G$41:M41),0) -> 3761915.3 | J8: =IF(J7<=IN!$C$47,SUM(Investimenti!$G$33:N33)-SUM(Investimenti!$G$41:N41),0) -> 3526795.6 | K8: =IF(K7<=IN!$C$47,SUM(Investimenti!$G$33:O33)-SUM(Investimenti!$G$41:O41),0) -> 3291675.9 | ... AF8: =IF(AF7<=IN!$C$47,SUM(Investimenti!$G$33:AJ33)-SUM(Investimenti!$G$41:AJ41),0) -> 0
B9: CCN | C9: ='CE CC opz1'!C84 -> -1082105.7 | D9: ='CE CC opz1'!D84 -> 95635.949 | E9: ='CE CC opz1'!E84 -> 95864.717 | F9: ='CE CC opz1'!F84 -> 96095.805 | G9: ='CE CC opz1'!G84 -> 96329.238 | H9: ='CE CC opz1'!H84 -> 96565.04 | I9: ='CE CC opz1'!I84 -> 96803.235 | J9: ='CE CC opz1'!J84 -> 91027.409 | ... AF9: ='CE CC opz1'!AF84 -> 0
B10: CIN | C10: =C8+C9 -> 4090527.9 | D10: =D8+D9 -> 5033149.8 | E10: =E8+E9 -> 4798258.8 | F10: =F8+F9 -> 4563370.2 | G10: =G8+G9 -> 4328483.9 | H10: =H8+H9 -> 4093600 | I10: =I8+I9 -> 3858718.5 | J10: =J8+J9 -> 3617823 | ... AF10: =AF8+AF9 -> 0
B11: Capitale sociale | C11: =-'RF VAL_INV opz1'!C30 -> 1788501.1 | D11: =IN!Q53 -> 2796890 | E11: =D11 -> 2796890 | F11: =E11 -> 2796890 | G11: =F11 -> 2796890 | H11: =G11 -> 2796890 | I11: =H11 -> 2796890 | J11: =I11 -> 2796890 | K11: =J11 -> 2796890 | L11: =K11 -> 2796890 | ... Y11: =X11 -> 2796890
B12: Riserve | C12: 0 | D12: =IF(D7<=IN!$C$47,SUM(C12:C13),0) -> -226349.44 | E12: =IF(E7<=IN!$C$47,SUM(D12:D13),0) -> -107819.98 | F12: =IF(F7<=IN!$C$47,SUM(E12:E13),0) -> 13311.976 | G12: =IF(G7<=IN!$C$47,SUM(F12:F13),0) -> 137104.77 | H12: =IF(H7<=IN!$C$47,SUM(G12:G13),0) -> 263618.2 | I12: =IF(I7<=IN!$C$47,SUM(H12:H13),0) -> 392913.61 | J12: =IF(J7<=IN!$C$47,SUM(I12:I13),0) -> 525053.88 | K12: =IF(K7<=IN!$C$47,SUM(J12:J13),0) -> 638563.53 | ... AF12: =IF(AF7<=IN!$C$47,SUM(AE12:AE13),0) -> 0
B13: Utile/Perdita d'esercizio | C13: =IF(C7<=IN!$C$47,'CE CC opz1'!C47,0) -> -226349.44 | D13: =IF(D7<=IN!$C$47,'CE CC opz1'!D47,0) -> 118529.45 | E13: =IF(E7<=IN!$C$47,'CE CC opz1'!E47,0) -> 121131.96 | F13: =IF(F7<=IN!$C$47,'CE CC opz1'!F47,0) -> 123792.79 | G13: =IF(G7<=IN!$C$47,'CE CC opz1'!G47,0) -> 126513.43 | H13: =IF(H7<=IN!$C$47,'CE CC opz1'!H47,0) -> 129295.41 | I13: =IF(I7<=IN!$C$47,'CE CC opz1'!I47,0) -> 132140.28 | J13: =IF(J7<=IN!$C$47,'CE CC opz1'!J47,0) -> 113509.65 | ... AF13: =IF(AF7<=IN!$C$47,'CE CC opz1'!AF47,0) -> 0
B14: Finanziamento a M/L Termine | C14: {=TRANSPOSE(IN!R57:R86)} -> 2528376.2 | D14: 2443587.7 | E14: 2356433.7 | F14: 2266848 | G14: 2174763 | H14: 2080108.7 | I14: 1982813.6 | J14: 1882803.9 | K14: 1780004 | L14: 1674336 | M14: 1565719.8 | N14: 1454073.3 | O14: 1339311.8 | P14: 1221348.4 | Q14: 1100093.9 | R14: 975456.36 | S14: 847341.45 | T14: 715652.13 | U14: 580288.67 | V14: 441148.58 | W14: 298126.48 | X14: 151114.06 | Y14: 2.5320332e-09 | Z14: 0 | AA14: 0 | AB14: 0 | AC14: 0 | AD14: 0 | AE14: 0 | AF14: 0
B15: Saldo Banche a B/T/ (Cassa) | C15: =IF(C7<=IN!$C$47,-'RF VAL_INV opz1'!C30,0)-C11 -> 0 | D15: =IF(D7<=IN!$C$47,-'RF VAL_INV opz1'!C30-'RF VAL_INV opz1'!D30,0)-D11 -> -99507.966 | E15: =IF(E7<=IN!$C$47,D15-'RF VAL_INV opz1'!E30,0) -> -368376.82 | F15: =IF(F7<=IN!$C$47,E15-'RF VAL_INV opz1'!F30,0) -> -637472.58 | G15: =IF(G7<=IN!$C$47,F15-'RF VAL_INV opz1'!G30,0) -> -906787.2 | H15: =IF(H7<=IN!$C$47,G15-'RF VAL_INV opz1'!H30,0) -> -1176312.2 | I15: =IF(I7<=IN!$C$47,H15-'RF VAL_INV opz1'!I30,0) -> -1446038.9 | J15: =IF(J7<=IN!$C$47,I15-'RF VAL_INV opz1'!J30,0) -> -1700434.5 | K15: =IF(K7<=IN!$C$47,J15-'RF VAL_INV opz1'!K30,0) -> -1964519.9 | L15: =IF(L7<=IN!$C$47,K15-'RF VAL_INV opz1'!L30,0) -> -2234794.6 | ... AF15: =IF(AF7<=IN!$C$47,AE15-'RF VAL_INV opz1'!AF30,0) -> 0
B16: Fabbisogno finanziario | C16: =SUM(C14:C15) -> 2528376.2 | D16: =SUM(D14:D15) -> 2344079.8 | E16: =SUM(E14:E15) -> 1988056.9 | F16: =SUM(F14:F15) -> 1629375.5 | G16: =SUM(G14:G15) -> 1267975.8 | H16: =SUM(H14:H15) -> 903796.46 | I16: =SUM(I14:I15) -> 536774.67 | J16: =SUM(J14:J15) -> 182369.49 | ... AF16: =SUM(AF14:AF15) -> 0
B17: Fonti di copertura | C17: =SUM(C11:C13,C16) -> 4090527.9 | D17: =SUM(D11:D13,D16) -> 5033149.8 | E17: =SUM(E11:E13,E16) -> 4798258.8 | F17: =SUM(F11:F13,F16) -> 4563370.2 | G17: =SUM(G11:G13,G16) -> 4328483.9 | H17: =SUM(H11:H13,H16) -> 4093600 | I17: =SUM(I11:I13,I16) -> 3858718.5 | J17: =SUM(J11:J13,J16) -> 3617823 | ... Y17: =SUM(Y11:Y13,Y16) -> 100960.77 | Z17: =SUM(Z12:Z13,Z16) -> 0 | AA17: =SUM(AA12:AA13,AA16) -> 0 | AB17: =SUM(AB12:AB13,AB16) -> 0 | AC17: =SUM(AC12:AC13,AC16) -> 0 | AD17: =SUM(AD12:AD13,AD16) -> 0 | AE17: =SUM(AE12:AE13,AE16) -> 0 | AF17: =SUM(AF12:AF13,AF16) -> 0
B23: check | C23: =C17-C10 -> 0 | D23: =D17-D10 -> 0 | E23: =E17-E10 -> 0 | F23: =F17-F10 -> 0 | G23: =G17-G10 -> 0 | H23: =H17-H10 -> 0 | I23: =I17-I10 -> 0 | J23: =J17-J10 -> 0 | ... Y23: =Y17-Y10 -> 7.2759576e-10

Sheet CE CC opz2
B2: CONTO ECONOMICO
B3: Dati in €
B4: Anno | C4: anno 1 | D4: anno 2 | E4: anno 3 | F4: anno 4 | G4: anno 5 | H4: anno 6 | I4: anno 7 | J4: anno 8 | K4: anno 9 | L4: anno 10 | M4: anno 11 | N4: anno 12 | O4: anno 13 | P4: anno 14 | Q4: anno 15 | R4: anno 16 | S4: anno 17 | T4: anno 18 | U4: anno 19 | V4: anno 20 | W4: anno 21 | X4: anno 22 | Y4: anno 23 | Z4: anno 24
C5: 1 | D5: =C5+1 -> 2 | E5: =D5+1 -> 3 | F5: =E5+1 -> 4 | G5: =F5+1 -> 5 | H5: =G5+1 -> 6 | I5: =H5+1 -> 7 | J5: =I5+1 -> 8 | K5: =J5+1 -> 9 | ... AG5: =AF5+1 -> 31
B6: Canone | C6: =IF(C5<=IN!$C$47,SUM(C7:C12),0) -> 814048.1 | D6: =IF(D5<=IN!$C$47,SUM(D7:D12),0) -> 820387.62 | E6: =IF(E5<=IN!$C$47,SUM(E7:E12),0) -> 826827.25 | F6: =IF(F5<=IN!$C$47,SUM(F7:F12),0) -> 833368.71 | G6: =IF(G5<=IN!$C$47,SUM(G7:G12),0) -> 840013.78 | H6: =IF(H5<=IN!$C$47,SUM(H7:H12),0) -> 846764.25 | I6: =IF(I5<=IN!$C$47,SUM(I7:I12),0) -> 853621.95 | J6: =IF(J5<=IN!$C$47,SUM(J7:J12),0) -> 860588.77 | ... AF6: =IF(AF5<=IN!$C$47,SUM(AF7:AF12),0) -> 0
B7: di cui Quota Energia | C7: =IN!I5 -> 183534.64 | D7: =(IN!C16+(IN!C16*2%))*IN!C18 -> 187205.33 | E7: =D7+(D7*2%) -> 190949.44 | F7: =E7+(E7*2%) -> 194768.42 | G7: =F7+(F7*2%) -> 198663.79 | H7: =G7+(G7*2%) -> 202637.07 | I7: =H7+(H7*2%) -> 206689.81 | J7: =I7+(I7*2%) -> 210823.61 | K7: =J7+(J7*2%) -> 215040.08 | L7: =K7+(K7*2%) -> 219340.88 | ... Y7: =X7+(X7*2%) -> 283740.82 | Z7: =IF(Z5<=IN!$C$47,IN!$I$5,0) -> 0 | AA7: =IF(AA5<=IN!$C$47,IN!$I$5,0) -> 0 | AB7: =IF(AB5<=IN!$C$47,IN!$I$5,0) -> 0 | AC7: =IF(AC5<=IN!$C$47,IN!$I$5,0) -> 0 | AD7: =IF(AD5<=IN!$C$47,IN!$I$5,0) -> 0 | AE7: =IF(AE5<=IN!$C$47,IN!$I$5,0) -> 0 | AF7: =IF(AF5<=IN!$C$47,IN!$I$5,0) -> 0
